BEGIN:VCALENDAR
VERSION:2.0
PRODID:-//equity* Göttingen - ECPv6.11.2.1//NONSGML v1.0//EN
CALSCALE:GREGORIAN
METHOD:PUBLISH
X-ORIGINAL-URL:https://equity-goettingen.de
X-WR-CALDESC:Veranstaltungen für equity* Göttingen
REFRESH-INTERVAL;VALUE=DURATION:PT1H
X-Robots-Tag:noindex
X-PUBLISHED-TTL:PT1H
BEGIN:VTIMEZONE
TZID:Europe/Berlin
BEGIN:DAYLIGHT
TZOFFSETFROM:+0100
TZOFFSETTO:+0200
TZNAME:CEST
DTSTART:20250330T010000
END:DAYLIGHT
BEGIN:STANDARD
TZOFFSETFROM:+0200
TZOFFSETTO:+0100
TZNAME:CET
DTSTART:20251026T010000
END:STANDARD
END:VTIMEZONE
BEGIN:VEVENT
DTSTART;TZID=Europe/Berlin:20251031T220000
DTEND;TZID=Europe/Berlin:20251031T233000
DTSTAMP:20260424T141327
CREATED:20251028T092615Z
LAST-MODIFIED:20251028T092615Z
UID:3635-1761948000-1761953400@equity-goettingen.de
SUMMARY:Cheers Queers - Queere Halloweenparty
DESCRIPTION:💜🖤 english version below \nBevor es so richtig grau wird\, machen wir nochmal das Beste draus – feiert mit uns Halloween: bunt und spooky! 🎃 \nAm 31.10. öffnet das Café Kollektiv Krawall ab 22 Uhr seine Tore. \nFreut euch auf Live-DJs mit Pop\, Dance\, House & Electro House\, Kostümcontest mit Preisverleihung\, Drinks\, Glitzer & dunkle Verführung. 🕸️✨ \nKommt verkleidet\, kreativ oder einfach als ihr selbst\, bringt eure Freund*innen mit und tanzt mit uns durch die Nacht!\n_______________ \n💜🖤\nBefore the season turns all grey\, we’re making the most of it — celebrate Halloween with us: colorful and spooky! 🎃 \nOn October 31\, Café Kollektiv Krawall opens its doors from 10 PM onwards. \nExpect live DJs spinning Pop\, Dance\, House & Electro House\, a costume contest with prizes\, drinks\, glitter & dark temptation. 🕸️✨ \nCome dressed up\, creative\, or just as yourself\, bring your friends\, and dance the night away with us
URL:https://equity-goettingen.de/termine/cheers-queers-queere-halloweenparty/
LOCATION:Café Kollektiv Krawall\, Geismar Landstr. 19\, Göttingen\, 37083
CATEGORIES:Cheers Queers Göttingen,Party,Socializing
ATTACH;FMTTYPE=image/png:https://equity-goettingen.de/wp-content/uploads/2025/10/Queere-Halloweenparty.png
END:VEVENT
END:VCALENDAR