BEGIN:VCALENDAR
VERSION:2.0
PRODID:-//equity* Göttingen - ECPv6.11.2.1//NONSGML v1.0//EN
CALSCALE:GREGORIAN
METHOD:PUBLISH
X-ORIGINAL-URL:https://equity-goettingen.de
X-WR-CALDESC:Veranstaltungen für equity* Göttingen
REFRESH-INTERVAL;VALUE=DURATION:PT1H
X-Robots-Tag:noindex
X-PUBLISHED-TTL:PT1H
BEGIN:VTIMEZONE
TZID:Europe/Berlin
BEGIN:DAYLIGHT
TZOFFSETFROM:+0100
TZOFFSETTO:+0200
TZNAME:CEST
DTSTART:20260329T010000
END:DAYLIGHT
BEGIN:STANDARD
TZOFFSETFROM:+0200
TZOFFSETTO:+0100
TZNAME:CET
DTSTART:20261025T010000
END:STANDARD
END:VTIMEZONE
BEGIN:VEVENT
DTSTART;TZID=Europe/Berlin:20260119T170000
DTEND;TZID=Europe/Berlin:20260119T190000
DTSTAMP:20260422T212741
CREATED:20251028T091835Z
LAST-MODIFIED:20251028T091835Z
UID:3633-1768842000-1768849200@equity-goettingen.de
SUMMARY:Queere Jugendgruppe
DESCRIPTION:Du bist zwischen 14 und 27 und lesbisch\, schwul\, bi\, pan\, queer\, asexuell\, aromantisch\, trans* geschlechtlich\, nicht-binär/a-binär bzw. fragst dich ob eins oder mehre von diesen Worten vielleicht für dich passen könnte?\nDann hast du vielleicht Lust auf die Queere Jugendgruppe im Queeren Zentrum in Göttingen.\nFalls du Freund:innen mitbringen willst\, die nicht selber so leben und für dich eine Unterstützung sind\, kannst du sie auch gerne mitbringen. \n  \n→ Wir wünschen uns\, dass ihr bei den Treffen eine Maske tragt (am besten FFP2) damit alle sicher sind. Ihr bekommt eine Maske kostenlos im Queeren Zentrum.  \n→ Wenn ihr Infektionssymptome oder eine Erältung habt\, bleibt bitte zuhause und kommt zum nächsten Treffen 🙂  \nSeit Mitte 2018 besteht die queere Jugendgruppe innerhalb des Vereins ‚Queeres Göttingen e.V.‘. Jeden 1. und 3. Montag im Monat ist die Jugendgruppe offen für queere Jugendliche und junge Erwachsene im Alter von 14 bis 27 Jahren. Bei uns treffen sich meist 15–25 Teilnehmende und zahlreiche neue Interessierte vor allem im Alter von 15 bis 21 Jahren.
URL:https://equity-goettingen.de/termine/queere-jugendgruppe-90/
LOCATION:Queeres Zentrum Göttingen\, Hospitalstr. 20\, Göttingen\, 37073
CATEGORIES:Jugendtreff,Socializing,Spielen
ATTACH;FMTTYPE=image/png:https://equity-goettingen.de/wp-content/uploads/2024/02/Jugendgruppe.png
END:VEVENT
END:VCALENDAR