BEGIN:VCALENDAR
VERSION:2.0
PRODID:-//equity* Göttingen - ECPv6.11.2.1//NONSGML v1.0//EN
CALSCALE:GREGORIAN
METHOD:PUBLISH
X-ORIGINAL-URL:https://equity-goettingen.de
X-WR-CALDESC:Veranstaltungen für equity* Göttingen
REFRESH-INTERVAL;VALUE=DURATION:PT1H
X-Robots-Tag:noindex
X-PUBLISHED-TTL:PT1H
BEGIN:VTIMEZONE
TZID:Europe/Berlin
BEGIN:DAYLIGHT
TZOFFSETFROM:+0100
TZOFFSETTO:+0200
TZNAME:CEST
DTSTART:20260329T010000
END:DAYLIGHT
BEGIN:STANDARD
TZOFFSETFROM:+0200
TZOFFSETTO:+0100
TZNAME:CET
DTSTART:20261025T010000
END:STANDARD
END:VTIMEZONE
BEGIN:VEVENT
DTSTART;TZID=Europe/Berlin:20260128T183000
DTEND;TZID=Europe/Berlin:20260128T200000
DTSTAMP:20260422T194603
CREATED:20251218T102223Z
LAST-MODIFIED:20251218T102320Z
UID:3662-1769625000-1769630400@equity-goettingen.de
SUMMARY:Netzwerk Trans*Gesundheit
DESCRIPTION:Das Netzwerk Trans* Gesundheit lädt ein zum nächsten Netzwerktreffen.  \nIm Mittelpunkt des Treffens steht das Thema „Endokrinologische Versorgungslage für trans\, nicht-binäre und genderdiverse Menschen in und um Göttingen“. Ziel der Veranstaltung ist es\, gemeinsam aktuelle Herausforderungen in der Versorgung zu beleuchten\, Erfahrungen aus der Praxis auszutauschen und Perspektiven für eine verbesserte interdisziplinäre Zusammenarbeit zu entwickeln. \nGerade die enge Kooperation zwischen Endokrinologie und hausärztlicher Versorgung spielt eine zentrale Rolle für eine bedarfsgerechte\, kontinuierliche und wohnortnahe medizinische Begleitung. Wir freuen uns daher besonders über Ihre fachliche Expertise und Ihren Beitrag zur Diskussion. \nDatum: 28.01.2026\nUhrzeit: 18:30 – 20:00Uhr\nOnline: Link auf Anfrage (info@equity-goettingen.de)  \nDas Treffen bietet Raum für:\n• fachlichen Austausch zur aktuellen Versorgungssituation\n• Diskussion struktureller und praktischer Herausforderungen\n• Vernetzung zwischen Endokrinologie\, Hausärzt*innen\, Psycholog*innen und weiteren Behandelnden\n• gemeinsame Entwicklung von Lösungsansätzen
URL:https://equity-goettingen.de/termine/netzwerk-transgesundheit-3/
LOCATION:online
CATEGORIES:Trans*
ATTACH;FMTTYPE=image/png:https://equity-goettingen.de/wp-content/uploads/2022/01/Netzwerk1.png
END:VEVENT
END:VCALENDAR