BEGIN:VCALENDAR
VERSION:2.0
PRODID:-//equity* Göttingen - ECPv6.11.2.1//NONSGML v1.0//EN
CALSCALE:GREGORIAN
METHOD:PUBLISH
X-ORIGINAL-URL:https://equity-goettingen.de
X-WR-CALDESC:Veranstaltungen für equity* Göttingen
REFRESH-INTERVAL;VALUE=DURATION:PT1H
X-Robots-Tag:noindex
X-PUBLISHED-TTL:PT1H
BEGIN:VTIMEZONE
TZID:Europe/Berlin
BEGIN:DAYLIGHT
TZOFFSETFROM:+0100
TZOFFSETTO:+0200
TZNAME:CEST
DTSTART:20260329T010000
END:DAYLIGHT
BEGIN:STANDARD
TZOFFSETFROM:+0200
TZOFFSETTO:+0100
TZNAME:CET
DTSTART:20261025T010000
END:STANDARD
END:VTIMEZONE
BEGIN:VEVENT
DTSTART;TZID=Europe/Berlin:20260308T160000
DTEND;TZID=Europe/Berlin:20260308T190000
DTSTAMP:20260422T174510
CREATED:20260217T090541Z
LAST-MODIFIED:20260217T090541Z
UID:3673-1772985600-1772996400@equity-goettingen.de
SUMMARY:Aspecs: Häkel-Treff
DESCRIPTION:Häkel-Treff für Menschen auf dem asexuellen udn aromantischen Spektrum\, Menschend ie sich fragen\, ob das auf sie zutrifft und deren Begleitung.  \nMaterial ist vorhanden.  \nAuch für Menschen ohne Vorerfahrung im Häkeln geeignet \n  \n  \n 
URL:https://equity-goettingen.de/termine/aspecs-haekel-treff/
LOCATION:Queeres Zentrum Göttingen\, Hospitalstr. 20\, Göttingen\, 37073
CATEGORIES:DIY/Kunst
ATTACH;FMTTYPE=image/png:https://equity-goettingen.de/wp-content/uploads/2025/03/Kreativ.png
END:VEVENT
END:VCALENDAR