BEGIN:VCALENDAR
VERSION:2.0
PRODID:-//equity* Göttingen - ECPv6.11.2.1//NONSGML v1.0//EN
CALSCALE:GREGORIAN
METHOD:PUBLISH
X-WR-CALNAME:equity* Göttingen
X-ORIGINAL-URL:https://equity-goettingen.de
X-WR-CALDESC:Veranstaltungen für equity* Göttingen
REFRESH-INTERVAL;VALUE=DURATION:PT1H
X-Robots-Tag:noindex
X-PUBLISHED-TTL:PT1H
BEGIN:VTIMEZONE
TZID:Europe/Berlin
BEGIN:DAYLIGHT
TZOFFSETFROM:+0100
TZOFFSETTO:+0200
TZNAME:CEST
DTSTART:20260329T010000
END:DAYLIGHT
BEGIN:STANDARD
TZOFFSETFROM:+0200
TZOFFSETTO:+0100
TZNAME:CET
DTSTART:20261025T010000
END:STANDARD
END:VTIMEZONE
BEGIN:VEVENT
DTSTART;TZID=Europe/Berlin:20260328T193000
DTEND;TZID=Europe/Berlin:20260328T233000
DTSTAMP:20260422T194737
CREATED:20260319T070713Z
LAST-MODIFIED:20260319T070713Z
UID:3690-1774726200-1774740600@equity-goettingen.de
SUMMARY:Cheers Queers @Nautibar
DESCRIPTION:Hallo Leute\, \nEs ist wieder soweit!\nAm 28.03.2026 um 19:30 Uhr laden wir euch herzlich zu einem entspannten\, offenen und empowernden queeren Barabend in der @nauti.bar ein  \nFreut euch auf einen Abend in gemütlicher Atmosphäre\, bei dem queere Menschen und Allies zusammenkommen können – zum Austauschen\, Kennenlernen\, Abschalten oder einfach zum gemeinsamen Anstoßen. Egal ob du neu in der Szene bist oder schon lange Teil davon: Du bist willkommen\, genau so wie du bist. \nEs wird Raum für Gespräche\, Begegnungen und gute Vibes geben – ganz ohne Druck\, dafür mit viel Offenheit und Respekt. \nKomm vorbei\, bring Freund*innen mit oder lerne neue Leute kennen. Wir freuen uns auf dich!  \n——–\nHello everyone\, \nIt’s that time again!\nOn March 28\, 2026 at 7:30 PM\, we warmly invite you to a relaxed\, open\, and empowering queer bar night @nauti.bar  \nLook forward to a cozy evening where queer people and allies can come together – to connect\, get to know each other\, unwind\, or simply raise a glass together. Whether you’re new to the scene or have been part of it for a long time: you are welcome just as you are. \nThere will be space for conversations\, encounters\, and good vibes – with no pressure\, but plenty of openness and respect. \nCome by\, bring your friends\, or meet new people. We’re looking forward to seeing you!
URL:https://equity-goettingen.de/termine/cheers-queers-nautibar/
LOCATION:Nautibar
CATEGORIES:Cheers Queers Göttingen,Socializing
ATTACH;FMTTYPE=image/png:https://equity-goettingen.de/wp-content/uploads/2024/02/Barabend.png
END:VEVENT
END:VCALENDAR