BEGIN:VCALENDAR
VERSION:2.0
PRODID:-//equity* Göttingen - ECPv6.11.2.1//NONSGML v1.0//EN
CALSCALE:GREGORIAN
METHOD:PUBLISH
X-WR-CALNAME:equity* Göttingen
X-ORIGINAL-URL:https://equity-goettingen.de
X-WR-CALDESC:Veranstaltungen für equity* Göttingen
REFRESH-INTERVAL;VALUE=DURATION:PT1H
X-Robots-Tag:noindex
X-PUBLISHED-TTL:PT1H
BEGIN:VTIMEZONE
TZID:Europe/Berlin
BEGIN:DAYLIGHT
TZOFFSETFROM:+0100
TZOFFSETTO:+0200
TZNAME:CEST
DTSTART:20260329T010000
END:DAYLIGHT
BEGIN:STANDARD
TZOFFSETFROM:+0200
TZOFFSETTO:+0100
TZNAME:CET
DTSTART:20261025T010000
END:STANDARD
END:VTIMEZONE
BEGIN:VEVENT
DTSTART;TZID=Europe/Berlin:20260504T170000
DTEND;TZID=Europe/Berlin:20260504T190000
DTSTAMP:20260422T125404
CREATED:20260422T082505Z
LAST-MODIFIED:20260422T082505Z
UID:3702-1777914000-1777921200@equity-goettingen.de
SUMMARY:Queere Jugendgruppe
DESCRIPTION:Du bist zwischen 14 und 27 und lesbisch\, schwul\, bi\, pan\, queer\, asexuell\, aromantisch\, trans* geschlechtlich\, nicht-binär/a-binär bzw. fragst dich ob eins oder mehre von diesen Worten vielleicht für dich passen könnte?\nDann hast du vielleicht Lust auf die Queere Jugendgruppe im Queeren Zentrum in Göttingen.\nFalls du Freund:innen mitbringen willst\, die nicht selber so leben und für dich eine Unterstützung sind\, kannst du sie auch gerne mitbringen. \nDie Treffen finden jeden ersten und dritten Montag im Monat von 17 bis 19 Uhr statt. \n \nWas steht an? Am 04.05. – Vögel füttern mit Jay und Joschka\n \n\nGrundsätzlich empfehlen wir das Tragen einer FFP2-Maske\, es ist aber nicht verpflichtend. Bei Bedarf würden wir euch aber darum bitten\, eine zu tragen. Es gibt auch FFP2-Masken zur freien Verfügung im Queeren Zentrum. Wenn ihr krank seid oder Erkältungssymptome habt bleibt bitte zuhause.\n\n 
URL:https://equity-goettingen.de/termine/queere-jugendgruppe-101/
LOCATION:Queeres Zentrum Göttingen\, Hospitalstr. 20\, Göttingen\, 37073
CATEGORIES:DIY/Kunst,Empowerment,Jugendtreff
ATTACH;FMTTYPE=image/png:https://equity-goettingen.de/wp-content/uploads/2024/02/Jugendgruppe.png
END:VEVENT
BEGIN:VEVENT
DTSTART;TZID=Europe/Berlin:20260518T170000
DTEND;TZID=Europe/Berlin:20260518T190000
DTSTAMP:20260422T125404
CREATED:20260422T082723Z
LAST-MODIFIED:20260422T082723Z
UID:3704-1779123600-1779130800@equity-goettingen.de
SUMMARY:Queere Jugendgruppe
DESCRIPTION:Du bist zwischen 14 und 27 und lesbisch\, schwul\, bi\, pan\, queer\, asexuell\, aromantisch\, trans* geschlechtlich\, nicht-binär/a-binär bzw. fragst dich ob eins oder mehre von diesen Worten vielleicht für dich passen könnte?\nDann hast du vielleicht Lust auf die Queere Jugendgruppe im Queeren Zentrum in Göttingen.\nFalls du Freund:innen mitbringen willst\, die nicht selber so leben und für dich eine Unterstützung sind\, kannst du sie auch gerne mitbringen. \nDie Treffen finden jeden ersten und dritten Montag im Monat von 17 bis 19 Uhr statt. \n \nWas steht an? Am 18.05. – Mario Kart mit Al und Caro\n \n\nGrundsätzlich empfehlen wir das Tragen einer FFP2-Maske\, es ist aber nicht verpflichtend. Bei Bedarf würden wir euch aber darum bitten\, eine zu tragen. Es gibt auch FFP2-Masken zur freien Verfügung im Queeren Zentrum. Wenn ihr krank seid oder Erkältungssymptome habt bleibt bitte zuhause.\n\n 
URL:https://equity-goettingen.de/termine/queere-jugendgruppe-102/
LOCATION:Queeres Zentrum Göttingen\, Hospitalstr. 20\, Göttingen\, 37073
CATEGORIES:DIY/Kunst,Empowerment,Jugendtreff
ATTACH;FMTTYPE=image/png:https://equity-goettingen.de/wp-content/uploads/2024/02/Jugendgruppe.png
END:VEVENT
BEGIN:VEVENT
DTSTART;TZID=Europe/Berlin:20260601T170000
DTEND;TZID=Europe/Berlin:20260601T190000
DTSTAMP:20260422T125404
CREATED:20260422T082927Z
LAST-MODIFIED:20260422T082927Z
UID:3706-1780333200-1780340400@equity-goettingen.de
SUMMARY:Queere Jugendgruppe
DESCRIPTION:Du bist zwischen 14 und 27 und lesbisch\, schwul\, bi\, pan\, queer\, asexuell\, aromantisch\, trans* geschlechtlich\, nicht-binär/a-binär bzw. fragst dich ob eins oder mehre von diesen Worten vielleicht für dich passen könnte?\nDann hast du vielleicht Lust auf die Queere Jugendgruppe im Queeren Zentrum in Göttingen.\nFalls du Freund:innen mitbringen willst\, die nicht selber so leben und für dich eine Unterstützung sind\, kannst du sie auch gerne mitbringen. \nDie Treffen finden jeden ersten und dritten Montag im Monat von 17 bis 19 Uhr statt. \n \nWas steht an? Am 01.06. – Pride Aktionsmonat Queere Geschichtsstunde mit Dalist und Joschka\n \n\nGrundsätzlich empfehlen wir das Tragen einer FFP2-Maske\, es ist aber nicht verpflichtend. Bei Bedarf würden wir euch aber darum bitten\, eine zu tragen. Es gibt auch FFP2-Masken zur freien Verfügung im Queeren Zentrum. Wenn ihr krank seid oder Erkältungssymptome habt bleibt bitte zuhause.
URL:https://equity-goettingen.de/termine/queere-jugendgruppe-103/
LOCATION:Queeres Zentrum Göttingen\, Hospitalstr. 20\, Göttingen\, 37073
CATEGORIES:DIY/Kunst,Empowerment,Jugendtreff
ATTACH;FMTTYPE=image/png:https://equity-goettingen.de/wp-content/uploads/2024/02/Jugendgruppe.png
END:VEVENT
BEGIN:VEVENT
DTSTART;TZID=Europe/Berlin:20260615T170000
DTEND;TZID=Europe/Berlin:20260615T190000
DTSTAMP:20260422T125404
CREATED:20260422T083400Z
LAST-MODIFIED:20260422T083400Z
UID:3708-1781542800-1781550000@equity-goettingen.de
SUMMARY:Queere Jugendgruppe
DESCRIPTION:Du bist zwischen 14 und 27 und lesbisch\, schwul\, bi\, pan\, queer\, asexuell\, aromantisch\, trans* geschlechtlich\, nicht-binär/a-binär bzw. fragst dich ob eins oder mehre von diesen Worten vielleicht für dich passen könnte?\nDann hast du vielleicht Lust auf die Queere Jugendgruppe im Queeren Zentrum in Göttingen.\nFalls du Freund:innen mitbringen willst\, die nicht selber so leben und für dich eine Unterstützung sind\, kannst du sie auch gerne mitbringen. \nDie Treffen finden jeden ersten und dritten Montag im Monat von 17 bis 19 Uhr statt. \n \nWas steht an? Am 15.06. – Pride Aktionsmonat Crashkurs A-Spektrum und Transgeschlechtlichkeit mit Caro und Dalist\n \n\nGrundsätzlich empfehlen wir das Tragen einer FFP2-Maske\, es ist aber nicht verpflichtend. Bei Bedarf würden wir euch aber darum bitten\, eine zu tragen. Es gibt auch FFP2-Masken zur freien Verfügung im Queeren Zentrum. Wenn ihr krank seid oder Erkältungssymptome habt bleibt bitte zuhause.\n\n 
URL:https://equity-goettingen.de/termine/queere-jugendgruppe-104/
LOCATION:Queeres Zentrum Göttingen\, Hospitalstr. 20\, Göttingen\, 37073
CATEGORIES:DIY/Kunst,Empowerment,Jugendtreff
ATTACH;FMTTYPE=image/png:https://equity-goettingen.de/wp-content/uploads/2024/02/Jugendgruppe.png
END:VEVENT
BEGIN:VEVENT
DTSTART;TZID=Europe/Berlin:20260706T170000
DTEND;TZID=Europe/Berlin:20260706T190000
DTSTAMP:20260422T125404
CREATED:20260422T083523Z
LAST-MODIFIED:20260422T083523Z
UID:3710-1783357200-1783364400@equity-goettingen.de
SUMMARY:Queere Jugendgruppe
DESCRIPTION:Du bist zwischen 14 und 27 und lesbisch\, schwul\, bi\, pan\, queer\, asexuell\, aromantisch\, trans* geschlechtlich\, nicht-binär/a-binär bzw. fragst dich ob eins oder mehre von diesen Worten vielleicht für dich passen könnte?\nDann hast du vielleicht Lust auf die Queere Jugendgruppe im Queeren Zentrum in Göttingen.\nFalls du Freund:innen mitbringen willst\, die nicht selber so leben und für dich eine Unterstützung sind\, kannst du sie auch gerne mitbringen. \nDie Treffen finden jeden ersten und dritten Montag im Monat von 17 bis 19 Uhr statt. \n \nWas steht an? Am 06.07. – Mocktails mixen mit Jay und Joschka\n \n\nGrundsätzlich empfehlen wir das Tragen einer FFP2-Maske\, es ist aber nicht verpflichtend. Bei Bedarf würden wir euch aber darum bitten\, eine zu tragen. Es gibt auch FFP2-Masken zur freien Verfügung im Queeren Zentrum. Wenn ihr krank seid oder Erkältungssymptome habt bleibt bitte zuhause.\n\n 
URL:https://equity-goettingen.de/termine/queere-jugendgruppe-105/
LOCATION:Queeres Zentrum Göttingen\, Hospitalstr. 20\, Göttingen\, 37073
ATTACH;FMTTYPE=image/png:https://equity-goettingen.de/wp-content/uploads/2024/02/Jugendgruppe.png
END:VEVENT
BEGIN:VEVENT
DTSTART;TZID=Europe/Berlin:20260720T170000
DTEND;TZID=Europe/Berlin:20260720T190000
DTSTAMP:20260422T125404
CREATED:20260422T083725Z
LAST-MODIFIED:20260422T083725Z
UID:3712-1784566800-1784574000@equity-goettingen.de
SUMMARY:Queere Jugendgruppe
DESCRIPTION:Du bist zwischen 14 und 27 und lesbisch\, schwul\, bi\, pan\, queer\, asexuell\, aromantisch\, trans* geschlechtlich\, nicht-binär/a-binär bzw. fragst dich ob eins oder mehre von diesen Worten vielleicht für dich passen könnte?\nDann hast du vielleicht Lust auf die Queere Jugendgruppe im Queeren Zentrum in Göttingen.\nFalls du Freund:innen mitbringen willst\, die nicht selber so leben und für dich eine Unterstützung sind\, kannst du sie auch gerne mitbringen. \nDie Treffen finden jeden ersten und dritten Montag im Monat von 17 bis 19 Uhr statt. \n \nWas steht an? Am 20.07. – Sonne genießen (hoffentlich) mit Dalist und Lion\n \n\nGrundsätzlich empfehlen wir das Tragen einer FFP2-Maske\, es ist aber nicht verpflichtend. Bei Bedarf würden wir euch aber darum bitten\, eine zu tragen. Es gibt auch FFP2-Masken zur freien Verfügung im Queeren Zentrum. Wenn ihr krank seid oder Erkältungssymptome habt bleibt bitte zuhause.\n\n 
URL:https://equity-goettingen.de/termine/queere-jugendgruppe-106/
LOCATION:Queeres Zentrum Göttingen\, Hospitalstr. 20\, Göttingen\, 37073
CATEGORIES:DIY/Kunst,Empowerment,Jugendtreff
ATTACH;FMTTYPE=image/png:https://equity-goettingen.de/wp-content/uploads/2024/02/Jugendgruppe.png
END:VEVENT
END:VCALENDAR