BEGIN:VCALENDAR
VERSION:2.0
PRODID:-//equity* Göttingen - ECPv6.11.2.1//NONSGML v1.0//EN
CALSCALE:GREGORIAN
METHOD:PUBLISH
X-ORIGINAL-URL:https://equity-goettingen.de
X-WR-CALDESC:Veranstaltungen für equity* Göttingen
REFRESH-INTERVAL;VALUE=DURATION:PT1H
X-Robots-Tag:noindex
X-PUBLISHED-TTL:PT1H
BEGIN:VTIMEZONE
TZID:Europe/Berlin
BEGIN:DAYLIGHT
TZOFFSETFROM:+0100
TZOFFSETTO:+0200
TZNAME:CEST
DTSTART:20250330T010000
END:DAYLIGHT
BEGIN:STANDARD
TZOFFSETFROM:+0200
TZOFFSETTO:+0100
TZNAME:CET
DTSTART:20251026T010000
END:STANDARD
END:VTIMEZONE
BEGIN:VEVENT
DTSTART;TZID=Europe/Berlin:20251006T170000
DTEND;TZID=Europe/Berlin:20251006T190000
DTSTAMP:20260424T141459
CREATED:20250415T092921Z
LAST-MODIFIED:20250415T105400Z
UID:3329-1759770000-1759777200@equity-goettingen.de
SUMMARY:Queere Jugendgruppe
DESCRIPTION:Du bist zwischen 14 und 27 und lesbisch\, schwul\, bi\, pan\, queer\, asexuell\, aromantisch\, trans* geschlechtlich\, nicht-binär/a-binär bzw. fragst dich ob eins oder mehre von diesen Worten vielleicht für dich passen könnte?\nDann hast du vielleicht Lust auf die Queere Jugendgruppe im Queeren Zentrum in Göttingen.\nFalls du Freund:innen mitbringen willst\, die nicht selber so leben und für dich eine Unterstützung sind\, kannst du sie auch gerne mitbringen. \nDie Treffen finden jeden Montag von 17 bis 19 Uhr statt.\n \n \nNoch ein paar Infos zu unserem Hygienekonzept:\n\n\nDas Abstandsgebot gilt genauso wie die Maskenpflicht im Queeren Zentrum – im Sitzen draußen könnt ihr die Maske abnehmen\, ansonsten tragt bitte die gesamte Zeit eine FFP2 Maske über Mund und Nase.\nEin Test ist nicht verpflichtend\, wir als Team finden einen Test aber weiterhin gut und bitten deshalb alle von euch\, einen Test zu machen (auch die\, die schon geboostert sind). Das kann ein Selbsttest zu Hause sein\, oder ein Test im Testzentrum. Es soll aber keine Person das Gefühl haben\, unter Druck zu sein\, einen Test zu machen\, weshalb wir euch nicht darum bitten werden\, uns ein Ergebnis mitzuteilen oder vorzuweisen.\n\n\nWenn du Fragen hast melde dich gerne bei uns unter jugendgruppe@queeres-goettingen.de.
URL:https://equity-goettingen.de/termine/queere-jugendgruppe-81/
LOCATION:Queeres Zentrum Göttingen\, Hospitalstr. 20\, Göttingen\, 37073
CATEGORIES:Jugendtreff,Socializing
ATTACH;FMTTYPE=image/png:https://equity-goettingen.de/wp-content/uploads/2024/02/Jugendgruppe.png
END:VEVENT
BEGIN:VEVENT
DTSTART;TZID=Europe/Berlin:20251020T170000
DTEND;TZID=Europe/Berlin:20251020T190000
DTSTAMP:20260424T141459
CREATED:20250415T110036Z
LAST-MODIFIED:20250415T110114Z
UID:3354-1760979600-1760986800@equity-goettingen.de
SUMMARY:Queere Jugendgruppe
DESCRIPTION:Du bist zwischen 14 und 27 und lesbisch\, schwul\, bi\, pan\, queer\, asexuell\, aromantisch\, trans* geschlechtlich\, nicht-binär/a-binär bzw. fragst dich ob eins oder mehre von diesen Worten vielleicht für dich passen könnte?\nDann hast du vielleicht Lust auf die Queere Jugendgruppe im Queeren Zentrum in Göttingen.\nFalls du Freund:innen mitbringen willst\, die nicht selber so leben und für dich eine Unterstützung sind\, kannst du sie auch gerne mitbringen. \nDie Treffen finden jeden Montag von 17 bis 19 Uhr statt.\n \n \nNoch ein paar Infos zu unserem Hygienekonzept:\n\n\nDas Abstandsgebot gilt genauso wie die Maskenpflicht im Queeren Zentrum – im Sitzen draußen könnt ihr die Maske abnehmen\, ansonsten tragt bitte die gesamte Zeit eine FFP2 Maske über Mund und Nase.\nEin Test ist nicht verpflichtend\, wir als Team finden einen Test aber weiterhin gut und bitten deshalb alle von euch\, einen Test zu machen (auch die\, die schon geboostert sind). Das kann ein Selbsttest zu Hause sein\, oder ein Test im Testzentrum. Es soll aber keine Person das Gefühl haben\, unter Druck zu sein\, einen Test zu machen\, weshalb wir euch nicht darum bitten werden\, uns ein Ergebnis mitzuteilen oder vorzuweisen.\n\n\nWenn du Fragen hast melde dich gerne bei uns unter jugendgruppe@queeres-goettingen.de.
URL:https://equity-goettingen.de/termine/queere-jugendgruppe-92/
LOCATION:Queeres Zentrum Göttingen\, Hospitalstr. 20\, Göttingen\, 37073
CATEGORIES:Jugendtreff,Socializing
ATTACH;FMTTYPE=image/png:https://equity-goettingen.de/wp-content/uploads/2024/02/Jugendgruppe.png
END:VEVENT
BEGIN:VEVENT
DTSTART;TZID=Europe/Berlin:20251031T220000
DTEND;TZID=Europe/Berlin:20251031T233000
DTSTAMP:20260424T141459
CREATED:20251028T092615Z
LAST-MODIFIED:20251028T092615Z
UID:3635-1761948000-1761953400@equity-goettingen.de
SUMMARY:Cheers Queers - Queere Halloweenparty
DESCRIPTION:💜🖤 english version below \nBevor es so richtig grau wird\, machen wir nochmal das Beste draus – feiert mit uns Halloween: bunt und spooky! 🎃 \nAm 31.10. öffnet das Café Kollektiv Krawall ab 22 Uhr seine Tore. \nFreut euch auf Live-DJs mit Pop\, Dance\, House & Electro House\, Kostümcontest mit Preisverleihung\, Drinks\, Glitzer & dunkle Verführung. 🕸️✨ \nKommt verkleidet\, kreativ oder einfach als ihr selbst\, bringt eure Freund*innen mit und tanzt mit uns durch die Nacht!\n_______________ \n💜🖤\nBefore the season turns all grey\, we’re making the most of it — celebrate Halloween with us: colorful and spooky! 🎃 \nOn October 31\, Café Kollektiv Krawall opens its doors from 10 PM onwards. \nExpect live DJs spinning Pop\, Dance\, House & Electro House\, a costume contest with prizes\, drinks\, glitter & dark temptation. 🕸️✨ \nCome dressed up\, creative\, or just as yourself\, bring your friends\, and dance the night away with us
URL:https://equity-goettingen.de/termine/cheers-queers-queere-halloweenparty/
LOCATION:Café Kollektiv Krawall\, Geismar Landstr. 19\, Göttingen\, 37083
CATEGORIES:Cheers Queers Göttingen,Party,Socializing
ATTACH;FMTTYPE=image/png:https://equity-goettingen.de/wp-content/uploads/2025/10/Queere-Halloweenparty.png
END:VEVENT
END:VCALENDAR