BEGIN:VCALENDAR
VERSION:2.0
PRODID:-//equity* Göttingen - ECPv6.11.2.1//NONSGML v1.0//EN
CALSCALE:GREGORIAN
METHOD:PUBLISH
X-WR-CALNAME:equity* Göttingen
X-ORIGINAL-URL:https://equity-goettingen.de
X-WR-CALDESC:Veranstaltungen für equity* Göttingen
REFRESH-INTERVAL;VALUE=DURATION:PT1H
X-Robots-Tag:noindex
X-PUBLISHED-TTL:PT1H
BEGIN:VTIMEZONE
TZID:Europe/Berlin
BEGIN:DAYLIGHT
TZOFFSETFROM:+0100
TZOFFSETTO:+0200
TZNAME:CEST
DTSTART:20250330T010000
END:DAYLIGHT
BEGIN:STANDARD
TZOFFSETFROM:+0200
TZOFFSETTO:+0100
TZNAME:CET
DTSTART:20251026T010000
END:STANDARD
END:VTIMEZONE
BEGIN:VEVENT
DTSTART;TZID=Europe/Berlin:20251103T170000
DTEND;TZID=Europe/Berlin:20251103T190000
DTSTAMP:20260424T124724
CREATED:20250415T120911Z
LAST-MODIFIED:20250415T120911Z
UID:3359-1762189200-1762196400@equity-goettingen.de
SUMMARY:Queere Jugendgruppe
DESCRIPTION:Du bist zwischen 14 und 27 und lesbisch\, schwul\, bi\, pan\, queer\, asexuell\, aromantisch\, trans* geschlechtlich\, nicht-binär/a-binär bzw. fragst dich ob eins oder mehre von diesen Worten vielleicht für dich passen könnte?\nDann hast du vielleicht Lust auf die Queere Jugendgruppe im Queeren Zentrum in Göttingen.\nFalls du Freund:innen mitbringen willst\, die nicht selber so leben und für dich eine Unterstützung sind\, kannst du sie auch gerne mitbringen. \nDie Treffen finden jeden Montag von 17 bis 19 Uhr statt.\n \n \nNoch ein paar Infos zu unserem Hygienekonzept:\n\n\nDas Abstandsgebot gilt genauso wie die Maskenpflicht im Queeren Zentrum – im Sitzen draußen könnt ihr die Maske abnehmen\, ansonsten tragt bitte die gesamte Zeit eine FFP2 Maske über Mund und Nase.\nEin Test ist nicht verpflichtend\, wir als Team finden einen Test aber weiterhin gut und bitten deshalb alle von euch\, einen Test zu machen (auch die\, die schon geboostert sind). Das kann ein Selbsttest zu Hause sein\, oder ein Test im Testzentrum. Es soll aber keine Person das Gefühl haben\, unter Druck zu sein\, einen Test zu machen\, weshalb wir euch nicht darum bitten werden\, uns ein Ergebnis mitzuteilen oder vorzuweisen.\n\n\nWenn du Fragen hast melde dich gerne bei uns unter jugendgruppe@queeres-goettingen.de.
URL:https://equity-goettingen.de/termine/queere-jugendgruppe-94/
LOCATION:Queeres Zentrum Göttingen\, Hospitalstr. 20\, Göttingen\, 37073
CATEGORIES:Jugendtreff,Socializing
ATTACH;FMTTYPE=image/png:https://equity-goettingen.de/wp-content/uploads/2024/02/Jugendgruppe.png
END:VEVENT
BEGIN:VEVENT
DTSTART;TZID=Europe/Berlin:20251105T101500
DTEND;TZID=Europe/Berlin:20251105T114500
DTSTAMP:20260424T124724
CREATED:20251103T122836Z
LAST-MODIFIED:20251103T122836Z
UID:3641-1762337700-1762343100@equity-goettingen.de
SUMMARY:Yoga für Queers
DESCRIPTION:Der Termin richtet sich an alle Menschen\, die sich als queer verstehen. Queer meint Weisen des Liebens\, Zusammenlebens sowie der Identitätsfindung und der Ausgestaltung von Sexualität\, die jenseits klassischer Rollen- und Geschlechterbilder stattfinden. Das umfasst z.B. schwule\, lesbische\, bisexuelle oder asexuelle Orientierungen sowie trans* und inter* geschlechtliche Identitäten. \nVorerfahrung ist nicht zwingend erforderlich.\nTragt bitte lockere Kleidung\, bringt etwas zu trinken mit und gerne auch eine Decke für die Schlussentspannung\, wenn ihr mögt.\nOrt: Kulturzentrum KAZ (Bürgerstraße 15\, Göttingen)\, Spiegelsaal \nWichtig: Alle können\, mit ihrem jeweiligen Körper\, in ihrer bevorzugten Sportkleidung am Yoga teilnehmen. Alle Teilnehmenden verpflichten sich freiwillig dazu\, die Körper der anderen Teilis oder deren Bekleidung nicht zu mustern\, anzustarren oder zu kommentieren. Damit sich alle möglichst wohl und sicher fühlen können\, bemühen sich alle\, auf ihr eigenes Verhalten und die Grenzen. anderer zu achten.
URL:https://equity-goettingen.de/termine/yoga-fuer-queers-14/
LOCATION:KAZ\, Bürgerstr. 15\, Göttingen\, 37073\, Deutschland
CATEGORIES:Empowerment
ATTACH;FMTTYPE=image/png:https://equity-goettingen.de/wp-content/uploads/2024/02/Sport.png
END:VEVENT
BEGIN:VEVENT
DTSTART;TZID=Europe/Berlin:20251117T170000
DTEND;TZID=Europe/Berlin:20251117T190000
DTSTAMP:20260424T124724
CREATED:20250415T121318Z
LAST-MODIFIED:20250415T121318Z
UID:3365-1763398800-1763406000@equity-goettingen.de
SUMMARY:Queere Jugendgruppe
DESCRIPTION:Du bist zwischen 14 und 27 und lesbisch\, schwul\, bi\, pan\, queer\, asexuell\, aromantisch\, trans* geschlechtlich\, nicht-binär/a-binär bzw. fragst dich ob eins oder mehre von diesen Worten vielleicht für dich passen könnte?\nDann hast du vielleicht Lust auf die Queere Jugendgruppe im Queeren Zentrum in Göttingen.\nFalls du Freund:innen mitbringen willst\, die nicht selber so leben und für dich eine Unterstützung sind\, kannst du sie auch gerne mitbringen. \nDie Treffen finden jeden Montag von 17 bis 19 Uhr statt.\n \n \nNoch ein paar Infos zu unserem Hygienekonzept:\n\n\nDas Abstandsgebot gilt genauso wie die Maskenpflicht im Queeren Zentrum – im Sitzen draußen könnt ihr die Maske abnehmen\, ansonsten tragt bitte die gesamte Zeit eine FFP2 Maske über Mund und Nase.\nEin Test ist nicht verpflichtend\, wir als Team finden einen Test aber weiterhin gut und bitten deshalb alle von euch\, einen Test zu machen (auch die\, die schon geboostert sind). Das kann ein Selbsttest zu Hause sein\, oder ein Test im Testzentrum. Es soll aber keine Person das Gefühl haben\, unter Druck zu sein\, einen Test zu machen\, weshalb wir euch nicht darum bitten werden\, uns ein Ergebnis mitzuteilen oder vorzuweisen.\n\n\nWenn du Fragen hast melde dich gerne bei uns unter jugendgruppe@queeres-goettingen.de.
URL:https://equity-goettingen.de/termine/queere-jugendgruppe-97/
LOCATION:Queeres Zentrum Göttingen\, Hospitalstr. 20\, Göttingen\, 37073
CATEGORIES:Jugendtreff,Socializing
ATTACH;FMTTYPE=image/png:https://equity-goettingen.de/wp-content/uploads/2024/02/Jugendgruppe.png
END:VEVENT
END:VCALENDAR