BEGIN:VCALENDAR
VERSION:2.0
PRODID:-//equity* Göttingen - ECPv6.11.2.1//NONSGML v1.0//EN
CALSCALE:GREGORIAN
METHOD:PUBLISH
X-ORIGINAL-URL:https://equity-goettingen.de
X-WR-CALDESC:Veranstaltungen für equity* Göttingen
REFRESH-INTERVAL;VALUE=DURATION:PT1H
X-Robots-Tag:noindex
X-PUBLISHED-TTL:PT1H
BEGIN:VTIMEZONE
TZID:Europe/Berlin
BEGIN:DAYLIGHT
TZOFFSETFROM:+0100
TZOFFSETTO:+0200
TZNAME:CEST
DTSTART:20250330T010000
END:DAYLIGHT
BEGIN:STANDARD
TZOFFSETFROM:+0200
TZOFFSETTO:+0100
TZNAME:CET
DTSTART:20251026T010000
END:STANDARD
END:VTIMEZONE
BEGIN:VEVENT
DTSTART;TZID=Europe/Berlin:20251201T170000
DTEND;TZID=Europe/Berlin:20251201T190000
DTSTAMP:20260423T005413
CREATED:20250415T121626Z
LAST-MODIFIED:20250415T121626Z
UID:3369-1764608400-1764615600@equity-goettingen.de
SUMMARY:Queere Jugendgruppe
DESCRIPTION:Du bist zwischen 14 und 27 und lesbisch\, schwul\, bi\, pan\, queer\, asexuell\, aromantisch\, trans* geschlechtlich\, nicht-binär/a-binär bzw. fragst dich ob eins oder mehre von diesen Worten vielleicht für dich passen könnte?\nDann hast du vielleicht Lust auf die Queere Jugendgruppe im Queeren Zentrum in Göttingen.\nFalls du Freund:innen mitbringen willst\, die nicht selber so leben und für dich eine Unterstützung sind\, kannst du sie auch gerne mitbringen. \nDie Treffen finden jeden Montag von 17 bis 19 Uhr statt.\n \n \nNoch ein paar Infos zu unserem Hygienekonzept:\n\n\nDas Abstandsgebot gilt genauso wie die Maskenpflicht im Queeren Zentrum – im Sitzen draußen könnt ihr die Maske abnehmen\, ansonsten tragt bitte die gesamte Zeit eine FFP2 Maske über Mund und Nase.\nEin Test ist nicht verpflichtend\, wir als Team finden einen Test aber weiterhin gut und bitten deshalb alle von euch\, einen Test zu machen (auch die\, die schon geboostert sind). Das kann ein Selbsttest zu Hause sein\, oder ein Test im Testzentrum. Es soll aber keine Person das Gefühl haben\, unter Druck zu sein\, einen Test zu machen\, weshalb wir euch nicht darum bitten werden\, uns ein Ergebnis mitzuteilen oder vorzuweisen.\n\n\nWenn du Fragen hast melde dich gerne bei uns unter jugendgruppe@queeres-goettingen.de.
URL:https://equity-goettingen.de/termine/queere-jugendgruppe-99/
LOCATION:Queeres Zentrum Göttingen\, Hospitalstr. 20\, Göttingen\, 37073
CATEGORIES:Jugendtreff,Socializing
ATTACH;FMTTYPE=image/png:https://equity-goettingen.de/wp-content/uploads/2024/02/Jugendgruppe.png
END:VEVENT
BEGIN:VEVENT
DTSTART;TZID=Europe/Berlin:20251215T170000
DTEND;TZID=Europe/Berlin:20251215T190000
DTSTAMP:20260423T005413
CREATED:20251028T091645Z
LAST-MODIFIED:20251028T091645Z
UID:3629-1765818000-1765825200@equity-goettingen.de
SUMMARY:Queere Jugendgruppe
DESCRIPTION:Du bist zwischen 14 und 27 und lesbisch\, schwul\, bi\, pan\, queer\, asexuell\, aromantisch\, trans* geschlechtlich\, nicht-binär/a-binär bzw. fragst dich ob eins oder mehre von diesen Worten vielleicht für dich passen könnte?\nDann hast du vielleicht Lust auf die Queere Jugendgruppe im Queeren Zentrum in Göttingen.\nFalls du Freund:innen mitbringen willst\, die nicht selber so leben und für dich eine Unterstützung sind\, kannst du sie auch gerne mitbringen. \n  \n→ Wir wünschen uns\, dass ihr bei den Treffen eine Maske tragt (am besten FFP2) damit alle sicher sind. Ihr bekommt eine Maske kostenlos im Queeren Zentrum.  \n→ Wenn ihr Infektionssymptome oder eine Erältung habt\, bleibt bitte zuhause und kommt zum nächsten Treffen 🙂  \nSeit Mitte 2018 besteht die queere Jugendgruppe innerhalb des Vereins ‚Queeres Göttingen e.V.‘. Jeden 1. und 3. Montag im Monat ist die Jugendgruppe offen für queere Jugendliche und junge Erwachsene im Alter von 14 bis 27 Jahren. Bei uns treffen sich meist 15–25 Teilnehmende und zahlreiche neue Interessierte vor allem im Alter von 15 bis 21 Jahren.
URL:https://equity-goettingen.de/termine/queere-jugendgruppe-86/
LOCATION:Queeres Zentrum Göttingen\, Hospitalstr. 20\, Göttingen\, 37073
CATEGORIES:Empowerment,Jugendtreff
ATTACH;FMTTYPE=image/png:https://equity-goettingen.de/wp-content/uploads/2024/02/Jugendgruppe.png
END:VEVENT
END:VCALENDAR