BEGIN:VCALENDAR
VERSION:2.0
PRODID:-//equity* Göttingen - ECPv6.11.2.1//NONSGML v1.0//EN
CALSCALE:GREGORIAN
METHOD:PUBLISH
X-WR-CALNAME:equity* Göttingen
X-ORIGINAL-URL:https://equity-goettingen.de
X-WR-CALDESC:Veranstaltungen für equity* Göttingen
REFRESH-INTERVAL;VALUE=DURATION:PT1H
X-Robots-Tag:noindex
X-PUBLISHED-TTL:PT1H
BEGIN:VTIMEZONE
TZID:Europe/Berlin
BEGIN:DAYLIGHT
TZOFFSETFROM:+0100
TZOFFSETTO:+0200
TZNAME:CEST
DTSTART:20260329T010000
END:DAYLIGHT
BEGIN:STANDARD
TZOFFSETFROM:+0200
TZOFFSETTO:+0100
TZNAME:CET
DTSTART:20261025T010000
END:STANDARD
END:VTIMEZONE
BEGIN:VEVENT
DTSTART;TZID=Europe/Berlin:20260302T170000
DTEND;TZID=Europe/Berlin:20260302T190000
DTSTAMP:20260422T160131
CREATED:20251124T111026Z
LAST-MODIFIED:20251124T111026Z
UID:3653-1772470800-1772478000@equity-goettingen.de
SUMMARY:Queere Jugendgruppe
DESCRIPTION:Du bist zwischen 14 und 27 und lesbisch\, schwul\, bi\, pan\, queer\, asexuell\, aromantisch\, trans* geschlechtlich\, nicht-binär/a-binär bzw. fragst dich ob eins oder mehre von diesen Worten vielleicht für dich passen könnte?\nDann hast du vielleicht Lust auf die Queere Jugendgruppe im Queeren Zentrum in Göttingen.\nFalls du Freund:innen mitbringen willst\, die nicht selber so leben und für dich eine Unterstützung sind\, kannst du sie auch gerne mitbringen. \nDie Treffen finden jeden ersten und dritten Montag im Monat von 17 bis 19 Uhr statt.\n \n \nNoch ein paar Infos zu unserem Hygienekonzept:\n\n\nDas Abstandsgebot gilt genauso wie die Maskenpflicht im Queeren Zentrum – im Sitzen draußen könnt ihr die Maske abnehmen\, ansonsten tragt bitte die gesamte Zeit eine FFP2 Maske über Mund und Nase.\nEin Test ist nicht verpflichtend\, wir als Team finden einen Test aber weiterhin gut und bitten deshalb alle von euch\, einen Test zu machen (auch die\, die schon geboostert sind). Das kann ein Selbsttest zu Hause sein\, oder ein Test im Testzentrum. Es soll aber keine Person das Gefühl haben\, unter Druck zu sein\, einen Test zu machen\, weshalb wir euch nicht darum bitten werden\, uns ein Ergebnis mitzuteilen oder vorzuweisen.\n\n\nWenn du Fragen hast melde dich gerne bei uns unter jugendgruppe@queeres-goettingen.de.
URL:https://equity-goettingen.de/termine/queere-jugendgruppe-95/
LOCATION:Queeres Zentrum Göttingen\, Hospitalstr. 20\, Göttingen\, 37073
CATEGORIES:Jugendtreff,Socializing,Spielen
ATTACH;FMTTYPE=image/png:https://equity-goettingen.de/wp-content/uploads/2024/02/Jugendgruppe.png
END:VEVENT
BEGIN:VEVENT
DTSTART;TZID=Europe/Berlin:20260303T160000
DTEND;TZID=Europe/Berlin:20260303T183000
DTSTAMP:20260422T160131
CREATED:20260217T091527Z
LAST-MODIFIED:20260217T091824Z
UID:3679-1772553600-1772562600@equity-goettingen.de
SUMMARY:Trans*Beratung: offene Beratung
DESCRIPTION:Jeden ersten Dienstag im Monat findet nach einer langen Pause wieder die Offene Trans*Beratung statt. Komm einfach spontan und ohne Anmeldung vorbei! Die Beratungen finden dann direkt vor Ort im Queeren Zentrum statt. Je nachdem wie viele Personen kommen\, ist evtl. mit Wartezeiten zu rechnen. \nUm eine sichere Beratung für Alle zu gewährleisten\, wünschen wir uns\, dass Besucher*innen vorab einen Schnelltest machen. Die Berater*innen sind auch alle tagesaktuell getestet. Vor Ort müssen FFP2-Masken getragen werden. \nTermin vereinbaren \nDu hast am Beratungsnachmittag keine Zeit oder möchtest lieber zu einem festen Termin ohne Wartezeiten kommen? Dann melde dich bei uns\, um einen Termin auszumachen. Auch telefonische und Online-Beratungen sind weiterhin möglich.  Kontakt
URL:https://equity-goettingen.de/termine/vielfarbig-2/
LOCATION:Queeres Zentrum Göttingen\, Hospitalstr. 20\, Göttingen\, 37073
CATEGORIES:Beratung,Trans*
ATTACH;FMTTYPE=image/png:https://equity-goettingen.de/wp-content/uploads/2024/02/4-2.png
END:VEVENT
BEGIN:VEVENT
DTSTART;TZID=Europe/Berlin:20260307T193000
DTEND;TZID=Europe/Berlin:20260307T233000
DTSTAMP:20260422T160131
CREATED:20260223T072715Z
LAST-MODIFIED:20260223T072715Z
UID:3687-1772911800-1772926200@equity-goettingen.de
SUMMARY:
DESCRIPTION:Lust auf gute Drinks\, gute Gespräche und noch bessere Gesellschaft?\nDann kommt vorbei zu unserem queeren Barabend! Am 7.3 treffen wir uns im @cafe_kollektiv_krawall\, \num zusammen einen richtig schönen\, entspannten Abend zu verbringen.\n\nEgal ob laut oder leise\, neu in der Stadt oder schon lange hier\, allein oder mit Crew – hier ist Platz für euch.\nWir wollen einen Raum schaffen zum Ankommen\, Austauschen\, Flirten\, Diskutieren\, Lachen oder einfach nur \nZusammensitzen.\n\nKommt vorbei\, bringt Freund*innen mit oder lernt neue Menschen kennen.\nWir freuen uns auf euch! 💫\n\nIn Zeiten\, in denen queere Räume immer noch verteidigt werden müssen\, schaffen wir unseren eigenen:\nEinen Ort für Sichtbarkeit\, Vernetzung und kollektives Durchatmen. Daher wollen wir auch gleichzeitig auf den \nfeministischen Kampftag am 8.3. aufmerksam machen! @feministischer_streik_goe \n\nWenn ihr euch allerdings nicht ganz fit fühlt oder Erkältungssymptome habt\, bleibt bitte diesmal zuhause\, \ndamit sich alle möglichst wohl und sicher fühlen können. Danke euch! ☺️\n\n-----------\n\nHey everyone! \n\nFancy some great drinks\, good conversation\, and even better company? Then join us for our queer bar night! \nWe're meeting up on March 7th at @cafe_kollektiv_krawall to spend a really nice\, relaxed evening together. \nWhether you're loud or quiet\, new to the city or a long-time resident\, alone or with your crew – there's room \nfor you here. \n\nWe want to create a space to arrive\, connect\, flirt\, discuss\, laugh\, or simply hang out. Come along\, \nbring your friends\, or meet new people. We're looking forward to seeing you! 💫 \n\nIn times when queer spaces still need defending\, we're creating our own: a place for visibility\, \nnetworking\, and collective respite. We also want to draw attention to the feminist strike on March 8th!\n@feministischer_streik_goe \n\nIf you're not feeling well or have cold symptoms\, please stay home this time so everyone can feel as \ncomfortable and safe as possible. \nThank you! ☺️
URL:https://equity-goettingen.de/termine/3687/
LOCATION:Café Kollektiv Krawall\, Geismar Landstr. 19\, Göttingen\, 37083
CATEGORIES:Cheers Queers Göttingen,Socializing
ATTACH;FMTTYPE=image/png:https://equity-goettingen.de/wp-content/uploads/2024/02/Barabend.png
END:VEVENT
BEGIN:VEVENT
DTSTART;TZID=Europe/Berlin:20260308T160000
DTEND;TZID=Europe/Berlin:20260308T190000
DTSTAMP:20260422T160131
CREATED:20260217T090541Z
LAST-MODIFIED:20260217T090541Z
UID:3673-1772985600-1772996400@equity-goettingen.de
SUMMARY:Aspecs: Häkel-Treff
DESCRIPTION:Häkel-Treff für Menschen auf dem asexuellen udn aromantischen Spektrum\, Menschend ie sich fragen\, ob das auf sie zutrifft und deren Begleitung.  \nMaterial ist vorhanden.  \nAuch für Menschen ohne Vorerfahrung im Häkeln geeignet \n  \n  \n 
URL:https://equity-goettingen.de/termine/aspecs-haekel-treff/
LOCATION:Queeres Zentrum Göttingen\, Hospitalstr. 20\, Göttingen\, 37073
CATEGORIES:DIY/Kunst
ATTACH;FMTTYPE=image/png:https://equity-goettingen.de/wp-content/uploads/2025/03/Kreativ.png
END:VEVENT
BEGIN:VEVENT
DTSTART;TZID=Europe/Berlin:20260316T170000
DTEND;TZID=Europe/Berlin:20260316T190000
DTSTAMP:20260422T160131
CREATED:20251124T111207Z
LAST-MODIFIED:20251124T111207Z
UID:3655-1773680400-1773687600@equity-goettingen.de
SUMMARY:Queere Jugendgruppe
DESCRIPTION:Du bist zwischen 14 und 27 und lesbisch\, schwul\, bi\, pan\, queer\, asexuell\, aromantisch\, trans* geschlechtlich\, nicht-binär/a-binär bzw. fragst dich ob eins oder mehre von diesen Worten vielleicht für dich passen könnte?\nDann hast du vielleicht Lust auf die Queere Jugendgruppe im Queeren Zentrum in Göttingen.\nFalls du Freund:innen mitbringen willst\, die nicht selber so leben und für dich eine Unterstützung sind\, kannst du sie auch gerne mitbringen. \nDie Treffen finden jeden ersten und dritten Montag im Monat von 17 bis 19 Uhr statt.\n \n \nNoch ein paar Infos zu unserem Hygienekonzept:\n\n\nDas Abstandsgebot gilt genauso wie die Maskenpflicht im Queeren Zentrum – im Sitzen draußen könnt ihr die Maske abnehmen\, ansonsten tragt bitte die gesamte Zeit eine FFP2 Maske über Mund und Nase.\nEin Test ist nicht verpflichtend\, wir als Team finden einen Test aber weiterhin gut und bitten deshalb alle von euch\, einen Test zu machen (auch die\, die schon geboostert sind). Das kann ein Selbsttest zu Hause sein\, oder ein Test im Testzentrum. Es soll aber keine Person das Gefühl haben\, unter Druck zu sein\, einen Test zu machen\, weshalb wir euch nicht darum bitten werden\, uns ein Ergebnis mitzuteilen oder vorzuweisen.\n\n\nWenn du Fragen hast melde dich gerne bei uns unter jugendgruppe@queeres-goettingen.de.
URL:https://equity-goettingen.de/termine/queere-jugendgruppe-96/
LOCATION:Queeres Zentrum Göttingen\, Hospitalstr. 20\, Göttingen\, 37073
CATEGORIES:Jugendtreff,Socializing,Spielen
ATTACH;FMTTYPE=image/png:https://equity-goettingen.de/wp-content/uploads/2024/02/Jugendgruppe.png
END:VEVENT
BEGIN:VEVENT
DTSTART;TZID=Europe/Berlin:20260328T193000
DTEND;TZID=Europe/Berlin:20260328T233000
DTSTAMP:20260422T160131
CREATED:20260319T070713Z
LAST-MODIFIED:20260319T070713Z
UID:3690-1774726200-1774740600@equity-goettingen.de
SUMMARY:Cheers Queers @Nautibar
DESCRIPTION:Hallo Leute\, \nEs ist wieder soweit!\nAm 28.03.2026 um 19:30 Uhr laden wir euch herzlich zu einem entspannten\, offenen und empowernden queeren Barabend in der @nauti.bar ein  \nFreut euch auf einen Abend in gemütlicher Atmosphäre\, bei dem queere Menschen und Allies zusammenkommen können – zum Austauschen\, Kennenlernen\, Abschalten oder einfach zum gemeinsamen Anstoßen. Egal ob du neu in der Szene bist oder schon lange Teil davon: Du bist willkommen\, genau so wie du bist. \nEs wird Raum für Gespräche\, Begegnungen und gute Vibes geben – ganz ohne Druck\, dafür mit viel Offenheit und Respekt. \nKomm vorbei\, bring Freund*innen mit oder lerne neue Leute kennen. Wir freuen uns auf dich!  \n——–\nHello everyone\, \nIt’s that time again!\nOn March 28\, 2026 at 7:30 PM\, we warmly invite you to a relaxed\, open\, and empowering queer bar night @nauti.bar  \nLook forward to a cozy evening where queer people and allies can come together – to connect\, get to know each other\, unwind\, or simply raise a glass together. Whether you’re new to the scene or have been part of it for a long time: you are welcome just as you are. \nThere will be space for conversations\, encounters\, and good vibes – with no pressure\, but plenty of openness and respect. \nCome by\, bring your friends\, or meet new people. We’re looking forward to seeing you!
URL:https://equity-goettingen.de/termine/cheers-queers-nautibar/
LOCATION:Nautibar
CATEGORIES:Cheers Queers Göttingen,Socializing
ATTACH;FMTTYPE=image/png:https://equity-goettingen.de/wp-content/uploads/2024/02/Barabend.png
END:VEVENT
BEGIN:VEVENT
DTSTART;TZID=Europe/Berlin:20260330T170000
DTEND;TZID=Europe/Berlin:20260330T190000
DTSTAMP:20260422T160131
CREATED:20260217T085906Z
LAST-MODIFIED:20260217T085906Z
UID:3669-1774890000-1774897200@equity-goettingen.de
SUMMARY:Queere Jugendgruppe
DESCRIPTION:Du bist zwischen 14 und 27 und lesbisch\, schwul\, bi\, pan\, queer\, asexuell\, aromantisch\, trans* geschlechtlich\, nicht-binär/a-binär bzw. fragst dich ob eins oder mehre von diesen Worten vielleicht für dich passen könnte?\nDann hast du vielleicht Lust auf die Queere Jugendgruppe im Queeren Zentrum in Göttingen.\nFalls du Freund:innen mitbringen willst\, die nicht selber so leben und für dich eine Unterstützung sind\, kannst du sie auch gerne mitbringen. \nDie Treffen finden jeden ersten und dritten Montag im Monat von 17 bis 19 Uhr statt.\n \nWas steht an? Am 30.3. Spielesammlung durchstöbern mit Lion und Joschka\n \n\nGrundsätzlich empfehlen wir das Tragen einer FFP2-Maske\, es ist aber nicht verpflichtend. Bei Bedarf würden wir euch aber darum bitten\, eine zu tragen. Es gibt auch FFP2-Masken zur freien Verfügung im Queeren Zentrum. Wenn ihr krank seid oder Erkältungssymptome habt bleibt bitte zuhause.
URL:https://equity-goettingen.de/termine/queere-jugendgruppe-98/
LOCATION:Queeres Zentrum Göttingen\, Hospitalstr. 20\, Göttingen\, 37073
CATEGORIES:DIY/Kunst,Empowerment,Jugendtreff,Socializing
ATTACH;FMTTYPE=image/png:https://equity-goettingen.de/wp-content/uploads/2024/02/Jugendgruppe.png
END:VEVENT
END:VCALENDAR