BEGIN:VCALENDAR
VERSION:2.0
PRODID:-//equity* Göttingen - ECPv6.11.2.1//NONSGML v1.0//EN
CALSCALE:GREGORIAN
METHOD:PUBLISH
X-ORIGINAL-URL:https://equity-goettingen.de
X-WR-CALDESC:Veranstaltungen für equity* Göttingen
REFRESH-INTERVAL;VALUE=DURATION:PT1H
X-Robots-Tag:noindex
X-PUBLISHED-TTL:PT1H
BEGIN:VTIMEZONE
TZID:Europe/Berlin
BEGIN:DAYLIGHT
TZOFFSETFROM:+0100
TZOFFSETTO:+0200
TZNAME:CEST
DTSTART:20230326T010000
END:DAYLIGHT
BEGIN:STANDARD
TZOFFSETFROM:+0200
TZOFFSETTO:+0100
TZNAME:CET
DTSTART:20231029T010000
END:STANDARD
END:VTIMEZONE
BEGIN:VEVENT
DTSTART;TZID=Europe/Berlin:20230703T193000
DTEND;TZID=Europe/Berlin:20230703T230000
DTSTAMP:20260421T024637
CREATED:20230628T082921Z
LAST-MODIFIED:20230628T082921Z
UID:2658-1688412600-1688425200@equity-goettingen.de
SUMMARY:Cheers Queers
DESCRIPTION:CheersQueers – (K)ein Stammtisch für queere Azubis und Studis \nBar-Abend am 03.07. im\n📍Dots (Barfüßerstraße 12-13)\n⏰ ab 19:30 Uhr \n🏳️‍🌈 Mit Einladung an alle\, die sich in irgendeinem Sinne als queer verstehen\, und für Allies \nSeit zwei Jahren organisiert CheersQueers in verschiedenen Bars Abende zum entspannten Kennenlernen\, Flirten oder einfach Zeitverbringen\, gerichtet an alle\, die sich als queer verstehen; seit einigen Monaten kommen regelmäßige Parties im Club Exil hinzu. Damit soll ein sicherer Entfaltungs- und Vernetzungsraum geschaffen werden\, insbesondere für queere Studis und Azubis. Umso schöner\, dass diesen Monat der Bar-Abend Teil der Queeren Wochen des AStA ist ✨\nNach dem der letzte Termin aufgrund des fiesen Unwetters abgesagt werden musste freuen wir uns nun auf einen neuen entspannten Kneipenabend mit euch!\nDa die Corona-Situation noch nicht ganz durchgestanden ist\, sind alle Teilnehmenden gebeten\, vorher einen Test (offiziellen oder Selbsttest) zu machen\, damit alle sich möglichst sicher fühlen können 🙂 \nBis dann 💗
URL:https://equity-goettingen.de/termine/cheers-queers-5/
LOCATION:dots\, Barfüßerstraße 12-13\, Göttingen\, 37073\, Deutschland
CATEGORIES:Cheers Queers Göttingen,Empowerment,Socializing
ATTACH;FMTTYPE=image/jpeg:https://equity-goettingen.de/wp-content/uploads/2021/07/Cheers_Queers.jpg
END:VEVENT
END:VCALENDAR