BEGIN:VCALENDAR
VERSION:2.0
PRODID:-//equity* Göttingen - ECPv6.11.2.1//NONSGML v1.0//EN
CALSCALE:GREGORIAN
METHOD:PUBLISH
X-WR-CALNAME:equity* Göttingen
X-ORIGINAL-URL:https://equity-goettingen.de
X-WR-CALDESC:Veranstaltungen für equity* Göttingen
REFRESH-INTERVAL;VALUE=DURATION:PT1H
X-Robots-Tag:noindex
X-PUBLISHED-TTL:PT1H
BEGIN:VTIMEZONE
TZID:Europe/Berlin
BEGIN:DAYLIGHT
TZOFFSETFROM:+0100
TZOFFSETTO:+0200
TZNAME:CEST
DTSTART:20220327T010000
END:DAYLIGHT
BEGIN:STANDARD
TZOFFSETFROM:+0200
TZOFFSETTO:+0100
TZNAME:CET
DTSTART:20221030T010000
END:STANDARD
END:VTIMEZONE
BEGIN:VEVENT
DTSTART;TZID=Europe/Berlin:20220406T150000
DTEND;TZID=Europe/Berlin:20220406T170000
DTSTAMP:20260425T045517
CREATED:20220214T134004Z
LAST-MODIFIED:20220214T134004Z
UID:1712-1649257200-1649264400@equity-goettingen.de
SUMMARY:Offene Beratung
DESCRIPTION:Ihr habt grundsätzlich die Möglichkeit zur offenen Beratung ins Queere Zentrum zu kommen. Die offene Beratung im Queeren Zentrum zurzeit jeden ersten Mittwoch im Monat von 15–17 Uhr statt. Solltet ihr einen Termin außerhalb der offenen Beratungszeit benötigen\, ruft uns gerne an oder schickt eine Mail. Solltet ihr keine Möglichkeit haben ins Queere Zentrum zu kommen\, können wir auch einen Termin für eine Telefon- oder Videoberatung vereinbaren. Wir bieten Einzel-\, Gruppen- oder Fachberatungen an. \nAchtung: aufgrund der aktuellen Situation sind Beratungen nur nach vorheriger Terminvereinbarung möglich. Wir bieten zusätzlich auch Video-\, Mail- und Telefonberatung an. Wenn ihr Beratungsbedarfe habt\, dann schreibt uns eine Mail an beratung@equity-goettingen.de
URL:https://equity-goettingen.de/termine/offene-beratung-6/
LOCATION:Queeres Zentrum Göttingen\, Hospitalstr. 20\, Göttingen\, 37073
CATEGORIES:Beratung
ATTACH;FMTTYPE=image/jpeg:https://equity-goettingen.de/wp-content/uploads/2021/03/Offene-Beratung.jpg
END:VEVENT
BEGIN:VEVENT
DTSTART;TZID=Europe/Berlin:20220413T140000
DTEND;TZID=Europe/Berlin:20220413T160000
DTSTAMP:20260425T045517
CREATED:20220214T134323Z
LAST-MODIFIED:20220214T134323Z
UID:1716-1649858400-1649865600@equity-goettingen.de
SUMMARY:Uni Beratung
DESCRIPTION:Im Rahmen der Kooperation mit der Universität Göttingen bietet equity* jeden zweiten Mittwoch im Monat von 14 bis 16 Uhr eine offene Beratung für Studierende\, Auszubildende und Mitarbeitende der Uni Göttingen an.  Wir beraten euch gerne zu Fragen zu geschlechtlicher Identität und sexueller Orientierung\, zu Coming Out oder Herausforderungen im Zusammenhang mit dem Studium oder der Ausbildung\, u.v.m.  \n\n\nAktuell findet die Uni-Beratung online oder per Telefon statt. Den Link bzw. die Telefonnummer erhaltet ihr per Mail. Wenn ihr Beratungsbedarfe oder einen individuellen Termin vereinbaren wollt habt\, dann schreibt uns eine Mail an beratung@equity-goettingen.de
URL:https://equity-goettingen.de/termine/uni-beratung-6/
LOCATION:Queeres Zentrum Göttingen\, Hospitalstr. 20\, Göttingen\, 37073
CATEGORIES:Beratung
ATTACH;FMTTYPE=image/jpeg:https://equity-goettingen.de/wp-content/uploads/2021/03/Uni-Beratung.jpg
END:VEVENT
BEGIN:VEVENT
DTSTART;TZID=Europe/Berlin:20220429T190000
DTEND;TZID=Europe/Berlin:20220429T233000
DTSTAMP:20260425T045517
CREATED:20220406T091115Z
LAST-MODIFIED:20220411T092322Z
UID:1896-1651258800-1651275000@equity-goettingen.de
SUMMARY:Cheers Queers @dots
DESCRIPTION:Es geht endlich weiter mit CheersQueers 💖 \nAm 29.04. findet der nächste Abend statt\, diesmal wieder in Präsenz\, mit eigens reserviertem Raum und Draußen-Option (sofern das Wetter es zulässt). Wir freuen uns riesig\, endlich wieder mit euch einen schönen Abend verbringen zu können ✨ \nDas ganze findet statt im\n📍Dots […] (Barfüßerstraße 12-13)\n⏰ ab 19:00 Uhr\n🏳️‍🌈 wie üblich mit Einladung an alle\, die sich in irgendeinem Sinne als queer verstehen\, und für Allies \nAufgrund der Infektionszahlen gilt weiterhin die 2G++ Regelung\, also mit erforderlichem Vorab-Test und FFP2-Maskenpflicht! Macht dementsprechend im Vorfeld einen offiziellen Coronatest (Selbsttest reicht nicht)\, damit die Sache für alle sicher ist! 🙂 \nUnd denkt an eure Impf- und Personalausweise.\n!! Wir kontrollieren sowohl den Test (Foto oder Bestätigung\, tagesaktuell) als auch euer Impfzerifikat; Namen können bei Bedarf abgedeckt werden !! \nWir bitten auch diesmal um Verständnis für die Umständlichkeit. Kommt gerne vorbei für einen weiteren coolen Abend 🎉
URL:https://equity-goettingen.de/termine/cheers-queers-dots/
LOCATION:dots\, Barfüßerstraße 12-13\, Göttingen\, 37073\, Deutschland
CATEGORIES:Cheers Queers Göttingen,Socializing
ATTACH;FMTTYPE=image/jpeg:https://equity-goettingen.de/wp-content/uploads/2021/07/CQ.jpg
END:VEVENT
END:VCALENDAR