BEGIN:VCALENDAR
VERSION:2.0
PRODID:-//equity* Göttingen - ECPv6.11.2.1//NONSGML v1.0//EN
CALSCALE:GREGORIAN
METHOD:PUBLISH
X-WR-CALNAME:equity* Göttingen
X-ORIGINAL-URL:https://equity-goettingen.de
X-WR-CALDESC:Veranstaltungen für equity* Göttingen
REFRESH-INTERVAL;VALUE=DURATION:PT1H
X-Robots-Tag:noindex
X-PUBLISHED-TTL:PT1H
BEGIN:VTIMEZONE
TZID:Europe/Berlin
BEGIN:DAYLIGHT
TZOFFSETFROM:+0100
TZOFFSETTO:+0200
TZNAME:CEST
DTSTART:20220327T010000
END:DAYLIGHT
BEGIN:STANDARD
TZOFFSETFROM:+0200
TZOFFSETTO:+0100
TZNAME:CET
DTSTART:20221030T010000
END:STANDARD
END:VTIMEZONE
BEGIN:VEVENT
DTSTART;TZID=Europe/Berlin:20220815T143000
DTEND;TZID=Europe/Berlin:20220815T170000
DTSTAMP:20260419T145747
CREATED:20220719T092330Z
LAST-MODIFIED:20220719T092330Z
UID:1994-1660573800-1660582800@equity-goettingen.de
SUMMARY:Walk-In Beratung
DESCRIPTION:Jeden 1. Und 3. Montag im Monat findet nun die offene Beratung im Queeren Zentrum Göttingen statt. Ihr braucht keinen Termin\, sondern könnt einfach vorbeikommen. Unser Beratungs- und Informationsangebot richtet sich an alle Jugendlichen und jungen Erwachsenen\, Studis\, Azubis und Schuler*innen\, die Fragen zu ihrer geschlechtlichen Identität\, ihrer sexuellen Orientierung haben oder ihrem Coming-Out haben. Auch Freund*innen\, Partner*innen\, Angehörige oder Bezugspersonen sowie Menschen die professionell mit Jugendlichen und jungen Erwachsenen arbeiten\, sind mit ihren Fragen bei uns willkommen. Unsere Beratung ist kostenlos\, ergebnisoffen und vertraulich! Mehr Infos unter: https://equity-goettingen.de/angebote-beratung/
URL:https://equity-goettingen.de/termine/walk-in-beratung-4/
LOCATION:Queeres Zentrum Göttingen\, Hospitalstr. 20\, Göttingen\, 37073
CATEGORIES:Beratung
ATTACH;FMTTYPE=image/png:https://equity-goettingen.de/wp-content/uploads/2022/05/1430-1730-Uhr-im-Queeren-Zentrum-Goettingen.png
END:VEVENT
END:VCALENDAR