BEGIN:VCALENDAR
VERSION:2.0
PRODID:-//equity* Göttingen - ECPv6.11.2.1//NONSGML v1.0//EN
CALSCALE:GREGORIAN
METHOD:PUBLISH
X-WR-CALNAME:equity* Göttingen
X-ORIGINAL-URL:https://equity-goettingen.de
X-WR-CALDESC:Veranstaltungen für equity* Göttingen
REFRESH-INTERVAL;VALUE=DURATION:PT1H
X-Robots-Tag:noindex
X-PUBLISHED-TTL:PT1H
BEGIN:VTIMEZONE
TZID:Europe/Berlin
BEGIN:DAYLIGHT
TZOFFSETFROM:+0100
TZOFFSETTO:+0200
TZNAME:CEST
DTSTART:20210328T010000
END:DAYLIGHT
BEGIN:STANDARD
TZOFFSETFROM:+0200
TZOFFSETTO:+0100
TZNAME:CET
DTSTART:20211031T010000
END:STANDARD
END:VTIMEZONE
BEGIN:VEVENT
DTSTART;TZID=Europe/Berlin:20211115T170000
DTEND;TZID=Europe/Berlin:20211115T190000
DTSTAMP:20260424T090110
CREATED:20211104T111642Z
LAST-MODIFIED:20211104T111642Z
UID:1367-1636995600-1637002800@equity-goettingen.de
SUMMARY:Queere Jugendgruppe Göttingen
DESCRIPTION:Du bist zwischen 14 und 27 und lesbisch\, schwul\, bi\, pan\, queer\, asexuell\, aromantisch\, trans* geschlechtlich\, nicht-binär/a-binär bzw. fragst dich ob eins oder mehre von diesen Worten vielleicht für dich passen könnte?\nDann hast du vielleicht Lust auf die Queere Jugendgruppe im Queeren Zentrum in Göttingen. Falls du Freund:innen mitbringen willst\, die nicht selber so leben und für dich eine Unterstützung sind\, kannst du sie auch gerne mitbringen. \nDie Treffen finden jeden Montag von 17 bis 19 Uhr statt. Aktuell treffen wir uns immer um 17 Uhr am Stadtjugendring (Düstere Straße 20a) und sind meistens draußen unterwegs.\nSchreibt uns einfach eine Mail wenn ihr kommen wollt
URL:https://equity-goettingen.de/termine/queere-jugendgruppe-goettingen/
LOCATION:Stadtjugendring Göttingen\, Düstere Straße 20a\, Göttingen\, 37073
CATEGORIES:Empowerment,Jugendtreff,Socializing
ATTACH;FMTTYPE=image/png:https://equity-goettingen.de/wp-content/uploads/2021/11/QJG.png
END:VEVENT
BEGIN:VEVENT
DTSTART;TZID=Europe/Berlin:20211129T170000
DTEND;TZID=Europe/Berlin:20211129T190000
DTSTAMP:20260424T090110
CREATED:20211123T122702Z
LAST-MODIFIED:20211123T122702Z
UID:1386-1638205200-1638212400@equity-goettingen.de
SUMMARY:Queere Jugendgruppe goes Jugendparlament
DESCRIPTION:Seit 2020 gibt es in Göttingen ein Jugendparlament\, das in geheimer Wahl von allen Schüler*innen in Göttingen gewählt wurde. Das Jugendparlament bietet die Möglichkeit\, auf kommunaler Ebene Einfluss auf die Politik zu nehmen und die Interessen von Jugendlichen zu vertreten. Jugendliche können im Jugendparlement etwas bewegen und verändern\, ohne in einer Partei sein zu müssen. \nDoch was genau machen die Mitglieder im Jugendparlament? Gibt es Arbeitsgruppen zu verschiedenen Themen? Gibt es konkrete Projekte? Und wie kann man sich beteiligen oder sogar selbst Mitglied im Jugendparlement werden? \nZu diesen Fragen wollen wir uns in einer entspannten Gesprächsrunde mit Mitgliedern der Jugendparlements austauschen. \nDie Veranstaltung findet am 29.11.2021 um 17Uhr (unter Einhaltung der 2G+ Regeln) im Stadtjugendring statt. Anmeldungen bis zum 26.11. an info@equity-goettingen.de \n  \nDie Veranstaltung findet im Rahmen der Jugend-Politik-Dialoge statt.
URL:https://equity-goettingen.de/termine/queere-jugendgruppe-goes-jugendparlament/
LOCATION:Stadtjugendring Göttingen\, Düstere Straße 20a\, Göttingen\, 37073
CATEGORIES:Jugendtreff,Politik,Socializing
ATTACH;FMTTYPE=image/png:https://equity-goettingen.de/wp-content/uploads/2021/11/JJuPa.png
END:VEVENT
END:VCALENDAR