BEGIN:VCALENDAR
VERSION:2.0
PRODID:-//equity* Göttingen - ECPv6.11.2.1//NONSGML v1.0//EN
CALSCALE:GREGORIAN
METHOD:PUBLISH
X-ORIGINAL-URL:https://equity-goettingen.de
X-WR-CALDESC:Veranstaltungen für equity* Göttingen
REFRESH-INTERVAL;VALUE=DURATION:PT1H
X-Robots-Tag:noindex
X-PUBLISHED-TTL:PT1H
BEGIN:VTIMEZONE
TZID:Europe/Berlin
BEGIN:DAYLIGHT
TZOFFSETFROM:+0100
TZOFFSETTO:+0200
TZNAME:CEST
DTSTART:20230326T010000
END:DAYLIGHT
BEGIN:STANDARD
TZOFFSETFROM:+0200
TZOFFSETTO:+0100
TZNAME:CET
DTSTART:20231029T010000
END:STANDARD
END:VTIMEZONE
BEGIN:VEVENT
DTSTART;TZID=Europe/Berlin:20230413T100000
DTEND;TZID=Europe/Berlin:20230413T160000
DTSTAMP:20260423T165204
CREATED:20230125T080247Z
LAST-MODIFIED:20230125T080247Z
UID:2238-1681380000-1681401600@equity-goettingen.de
SUMMARY:Fachtag: Jugendhilfe für alle
DESCRIPTION:Jugendhilfe für alle. Schwule\, Lesbische und Trans* Jugendliche in Verbänden\, Freizeitangeboten und Einrichtungen\n\n\n13.04.2023 II 10:00-16:00Uhr II Göttingen (Neues Rathaus\, Raum 126) \nLesbische\, schwule\, bisexuelle\, trans*\, inter* und queere (LSBTIQ*) Jugendliche und junge Erwachsene erleben gegenwärtig Abwertung und Ausschluss wie auch Stolz und Unterstützung. Die widersprüchliche Situation geht mit psychosozialer Belastung und Unsicherheiten einher. Fachkräfte der Kinder- und Jugendarbeit sind gefordert\, Platz für diese Jugendlichen zu schaffen und eine Jugendhilfe für alle zu gestalten. Sie können hinarbeiten auf Teilnahme und Inklusion\, Schutz und Schonraum bieten sowie Auseinandersetzung und Dialog ermöglichen. \nEin zentrales Ziel dieses Fachtages ist es die hauptamtlich Mitarbeitenden für die Situation und die Bedürfnisse von LSBTIQ*-Jugendlichen in der Jugendarbeit zu sensibilisieren. Der Fachtag gibt einen Überblick über Alltagserfahrungen von jungen LSBTIQ* Menschen und formuliert Impulse\, wie Fachkräfte Kinder- und Jugendarbeit ausgestalten und thematisch öffnen können. Hierbei steht der gemeinsame Austausch im Mittelpunkt. \nZu diesem Fachtag dürfen wir Folke Brodersen als Referenten begrüßen. Folke Brodersen ist wissenschaftlicher Mitarbeiter an der CAU Kiel. Zudem wird es die Gelegenheit geben\, verschiedene queere Projekte und Einrichtungen aus Göttingen kennenzulernen und sich auszutauschen. \nHier finden Sie den Ablaufplan (Ablaufplan) \n\n\nZielgruppe: \nFachkräfte und hauptamtliche Mitarbeitende der Kinder- und Jugendarbeit\, der Kinder- und Jugendpflege\, des Jugendamts\, stationäre Jugendhilfe Stadt und Landkreis Göttingen \n\n\nVeranstalter*in: equity* – Empowerment für queere Jugendliche und junge Erwachsene von 14 bis 27 Jahren. In Kooperation mit dem Gleichstellungsbüro der Stadt Göttingen. \nTeilnahmebeitrag: 30€ (inkl. Verpflegung). \nAnsprechpersonen: Denise Labahn und Moriz Jordan (Mail: info@equity-goettingen.de\, Tel.: 0551/2917 2524)
URL:https://equity-goettingen.de/termine/fachtag-jugendhilfe-fuer-alle/
LOCATION:Neues Rathaus
CATEGORIES:Jugendhilfe
ATTACH;FMTTYPE=image/png:https://equity-goettingen.de/wp-content/uploads/2023/01/website.png
END:VEVENT
END:VCALENDAR