BEGIN:VCALENDAR
VERSION:2.0
PRODID:-//equity* Göttingen - ECPv6.11.2.1//NONSGML v1.0//EN
CALSCALE:GREGORIAN
METHOD:PUBLISH
X-ORIGINAL-URL:https://equity-goettingen.de
X-WR-CALDESC:Veranstaltungen für equity* Göttingen
REFRESH-INTERVAL;VALUE=DURATION:PT1H
X-Robots-Tag:noindex
X-PUBLISHED-TTL:PT1H
BEGIN:VTIMEZONE
TZID:Europe/Berlin
BEGIN:DAYLIGHT
TZOFFSETFROM:+0100
TZOFFSETTO:+0200
TZNAME:CEST
DTSTART:20230326T010000
END:DAYLIGHT
BEGIN:STANDARD
TZOFFSETFROM:+0200
TZOFFSETTO:+0100
TZNAME:CET
DTSTART:20231029T010000
END:STANDARD
END:VTIMEZONE
BEGIN:VEVENT
DTSTART;TZID=Europe/Berlin:20230814T140000
DTEND;TZID=Europe/Berlin:20230814T200000
DTSTAMP:20260421T123339
CREATED:20230803T115311Z
LAST-MODIFIED:20230803T115311Z
UID:2718-1692021600-1692043200@equity-goettingen.de
SUMMARY:Kreativ Workshop
DESCRIPTION:Stempeln\, Drucken Sprayen!\nDu hast Lust dich mal so richtig kreativ auszutoben und dabei Taschen\, Patches oder Shirts zu bedrucken? Dann bist du bei diesem Workshop genau richtig. Zusammen wollen wir queere Motive gestalten und direkt im Anschluss auch auf auf den Stoff bringen.\nLos gehts am 14.08. ab 14 Uhr im Queeren Zentrum Göttingen (Hospitalstr. 20). \nFür Getränke und Snacks ist gesorgt 🙂
URL:https://equity-goettingen.de/termine/kreativ-workshop/
LOCATION:Queeres Zentrum Göttingen\, Hospitalstr. 20\, Göttingen\, 37073
CATEGORIES:CSD,Workshop
ATTACH;FMTTYPE=image/png:https://equity-goettingen.de/wp-content/uploads/2023/08/Design-ohne-Titel.png
END:VEVENT
END:VCALENDAR