BEGIN:VCALENDAR
VERSION:2.0
PRODID:-//equity* Göttingen - ECPv6.11.2.1//NONSGML v1.0//EN
CALSCALE:GREGORIAN
METHOD:PUBLISH
X-ORIGINAL-URL:https://equity-goettingen.de
X-WR-CALDESC:Veranstaltungen für equity* Göttingen
REFRESH-INTERVAL;VALUE=DURATION:PT1H
X-Robots-Tag:noindex
X-PUBLISHED-TTL:PT1H
BEGIN:VTIMEZONE
TZID:Europe/Berlin
BEGIN:DAYLIGHT
TZOFFSETFROM:+0100
TZOFFSETTO:+0200
TZNAME:CEST
DTSTART:20230326T010000
END:DAYLIGHT
BEGIN:STANDARD
TZOFFSETFROM:+0200
TZOFFSETTO:+0100
TZNAME:CET
DTSTART:20231029T010000
END:STANDARD
END:VTIMEZONE
BEGIN:VEVENT
DTSTART;TZID=Europe/Berlin:20230712T180000
DTEND;TZID=Europe/Berlin:20230712T210000
DTSTAMP:20260424T235941
CREATED:20230612T105240Z
LAST-MODIFIED:20230612T105240Z
UID:2440-1689184800-1689195600@equity-goettingen.de
SUMMARY:Workshop: Queere und vielfältige Männlichkeiten
DESCRIPTION:12.07.2023 II 18:00-21:00 Uhr II online via zoom \nAnmeldung bis 1.7. an: queereJungs@queeres-goettingen.de \n\n\n„Den weg ins Ungewisse Wagen“ Workshop zu Queeren und vielfältigen Männlichkeiten \n\nmit Blue Doppe (@queer_topia) \n\n\nIn diesem Workshop wollen wir uns mit dem Thema Männlichkeiten beschäftigen. Was ist eigentlich Männlich*keit? Wie kann ich kritisch mit (meinen) Männlich*keiten umgehen? Wie und wann nutze/performe ich sie? Wo schränken mich (meine) Männlich*keiten ein? Wir wollen dabei einen vor allem eine Fokus auf queere und andere vielfältigen Männlichkeiten werfen. \nTeilnehmende: max. 15 Personen \nkostenlos \nDer Workshop findet in deutscher Lautsprache statt und ist offen für alle Geschlechter. Dauer: 3 Stunden (18 – 21Uhr) Format Nach reiflicher Überlegung und viel ausprobieren wird der Online-Workshop über ZOOM stattfinden. So kann der Online-Workshop auch möglichst dynamisch gestaltet werden.
URL:https://equity-goettingen.de/termine/workshop-queere-und-vielfaeltige-maennlichkeiten/
LOCATION:zoom
CATEGORIES:Jugendhilfe,Vortrag,Workshop
ATTACH;FMTTYPE=image/png:https://equity-goettingen.de/wp-content/uploads/2023/06/Website_Maennlichkeiten.png
END:VEVENT
END:VCALENDAR