BEGIN:VCALENDAR
VERSION:2.0
PRODID:-//equity* Göttingen - ECPv6.11.2.1//NONSGML v1.0//EN
CALSCALE:GREGORIAN
METHOD:PUBLISH
X-ORIGINAL-URL:https://equity-goettingen.de
X-WR-CALDESC:Veranstaltungen für equity* Göttingen
REFRESH-INTERVAL;VALUE=DURATION:PT1H
X-Robots-Tag:noindex
X-PUBLISHED-TTL:PT1H
BEGIN:VTIMEZONE
TZID:Europe/Berlin
BEGIN:DAYLIGHT
TZOFFSETFROM:+0100
TZOFFSETTO:+0200
TZNAME:CEST
DTSTART:20210328T010000
END:DAYLIGHT
BEGIN:STANDARD
TZOFFSETFROM:+0200
TZOFFSETTO:+0100
TZNAME:CET
DTSTART:20211031T010000
END:STANDARD
END:VTIMEZONE
BEGIN:VEVENT
DTSTART;TZID=Europe/Berlin:20210813T200000
DTEND;TZID=Europe/Berlin:20210813T233000
DTSTAMP:20260425T030135
CREATED:20210720T065146Z
LAST-MODIFIED:20210720T065146Z
UID:1231-1628884800-1628897400@equity-goettingen.de
SUMMARY:Cheers Queers
DESCRIPTION:(K)ein Stammtisch für queere Azubis und Studis \nEntspanntes Kennenlernen\, Flirten oder einfach Plaudern für Lesben\, Schwule\, Bisexuelle\, Trans*\, Inter*\, Nicht-\nBinäre und alle die sich angesprochen fühlen. \n13.08.2021 // 20:00Uhr @ Queeres Zentrum Göttingen\n \nWir treffen uns zweimal im Monat an wechselnden Locations in Göttingen. Eine Woche in Kneipen/Barsund in der jeweils anderen Woche im Queeren Zentrum Göttingen. Die jeweiligen Daten und Orte findet ihr weiter unten. Für die aktuellsten Infos folgt uns auf Instagram (@cheer.s.queers).
URL:https://equity-goettingen.de/termine/cheers-queers-2/
LOCATION:Queeres Zentrum Göttingen\, Hospitalstr. 20\, Göttingen\, 37073
CATEGORIES:Socializing
ATTACH;FMTTYPE=image/jpeg:https://equity-goettingen.de/wp-content/uploads/2021/07/WhatsApp-Image-2021-07-13-at-18.14.16-edited.jpeg
END:VEVENT
END:VCALENDAR