BEGIN:VCALENDAR
VERSION:2.0
PRODID:-//equity* Göttingen - ECPv6.11.2.1//NONSGML v1.0//EN
CALSCALE:GREGORIAN
METHOD:PUBLISH
X-WR-CALNAME:equity* Göttingen
X-ORIGINAL-URL:https://equity-goettingen.de
X-WR-CALDESC:Veranstaltungen für equity* Göttingen
REFRESH-INTERVAL;VALUE=DURATION:PT1H
X-Robots-Tag:noindex
X-PUBLISHED-TTL:PT1H
BEGIN:VTIMEZONE
TZID:Europe/Berlin
BEGIN:DAYLIGHT
TZOFFSETFROM:+0100
TZOFFSETTO:+0200
TZNAME:CEST
DTSTART:20220327T010000
END:DAYLIGHT
BEGIN:STANDARD
TZOFFSETFROM:+0200
TZOFFSETTO:+0100
TZNAME:CET
DTSTART:20221030T010000
END:STANDARD
END:VTIMEZONE
BEGIN:VEVENT
DTSTART;TZID=Europe/Berlin:20220601T110000
DTEND;TZID=Europe/Berlin:20220601T150000
DTSTAMP:20260424T122959
CREATED:20220525T105334Z
LAST-MODIFIED:20220525T105334Z
UID:1944-1654081200-1654095600@equity-goettingen.de
SUMMARY:DIES Academicus
DESCRIPTION:Ihr wollt die Beratungs- und Freizeitangebote von equity* kennenlernen oder euch einfach mal Informieren was es in Göttingen an queeren Angeboten gibt? Dann kommt und besucht unseren Stand beim DIES am 01.07.2022 🙂
URL:https://equity-goettingen.de/termine/dies-academicus/
LOCATION:Hochschulsport Göttingen\, Gutenbergstr. 60\, Göttingen
CATEGORIES:Outdoor,Sport
END:VEVENT
BEGIN:VEVENT
DTSTART;TZID=Europe/Berlin:20220606T170000
DTEND;TZID=Europe/Berlin:20220606T190000
DTSTAMP:20260424T122959
CREATED:20220525T110957Z
LAST-MODIFIED:20220525T110957Z
UID:1959-1654534800-1654542000@equity-goettingen.de
SUMMARY:Queere Jugendgruppe
DESCRIPTION:Du bist zwischen 14 und 27 und lesbisch\, schwul\, bi\, pan\, queer\, asexuell\, aromantisch\, trans* geschlechtlich\, nicht-binär/a-binär bzw. fragst dich ob eins oder mehre von diesen Worten vielleicht für dich passen könnte?\nDann hast du vielleicht Lust auf die Queere Jugendgruppe im Queeren Zentrum in Göttingen.\nFalls du Freund:innen mitbringen willst\, die nicht selber so leben und für dich eine Unterstützung sind\, kannst du sie auch gerne mitbringen. \nDie Treffen finden jeden Montag von 17 bis 19 Uhr statt.\n \nWenn du Fragen hast melde dich gerne bei uns unter jugendgruppe@queeres-goettingen.de
URL:https://equity-goettingen.de/termine/queere-jugendgruppe-8/
LOCATION:Stadtjugendring Göttingen\, Düstere Straße 20a\, Göttingen\, 37073
CATEGORIES:Jugendtreff,Socializing
ATTACH;FMTTYPE=image/jpeg:https://equity-goettingen.de/wp-content/uploads/2021/07/QJG.jpg
END:VEVENT
BEGIN:VEVENT
DTSTART;TZID=Europe/Berlin:20220611T150000
DTEND;TZID=Europe/Berlin:20220611T170000
DTSTAMP:20260424T122959
CREATED:20220525T110156Z
LAST-MODIFIED:20220525T110156Z
UID:1946-1654959600-1654966800@equity-goettingen.de
SUMMARY:Walk and Talk
DESCRIPTION:Du bist queer in Göttingen und möchtest mit anderen jungen Queers ins Gespräch kommen? Beim equity* Walk and Talk für junge Queers bis 27 gibt’s reichlich Gelegenheit für Austausch\, Leute kennenlernen (oder wiedersehen) und zum Pläne schmieden für den Sommer! Wir wollen uns beim gemeinsamen Spazierengehen wieder an mehr frische Luft und weniger Zeit vor Zoom und Co. gewöhnen. Es wird durch den herrlich grünen Stadtwald Richtung Sengersfeld gehen. \nWir treffen und am 11.06. um 15:00 Uhr beim Jérôme-Pavillon an den Schillerwiesen. \nWillst du dabei sein? Dann meld dich kurz hier bei Insta oder gib unter info@equity-goettingen.de ganz kurz Bescheid (das hilft uns bei der Planung). \nZum Spaziergang bring bitte 2 Stunden Zeit\, festes Schuhwerk\, ausreichend zu Trinken und ggf. eine Regenjacke mit. \nWir freuen uns auf dich!
URL:https://equity-goettingen.de/termine/walk-and-talk-3/
LOCATION:Schillerwiesen
CATEGORIES:Outdoor,Socializing
ATTACH;FMTTYPE=image/png:https://equity-goettingen.de/wp-content/uploads/2022/05/Walk-And-Talk.png
END:VEVENT
BEGIN:VEVENT
DTSTART;TZID=Europe/Berlin:20220618T150000
DTEND;TZID=Europe/Berlin:20220618T213000
DTSTAMP:20260424T122959
CREATED:20220608T121403Z
LAST-MODIFIED:20220608T121403Z
UID:1971-1655564400-1655587800@equity-goettingen.de
SUMMARY:Einzugsparty Queeres Zentrum
DESCRIPTION:Das Queere Zentrum ist endlich im Zentrum angekommen und bietet vielen Aktivitäten und Gruppen nun viel mehr Platz. Das wollen wir am 18. Juni mit euch feiern! Wir freuen uns auf ein schönes Zusammensein: Um 15:00 Uhr starten wir mit dem offiziellen Empfang und Redebeiträgen. Über den weiteren Nachmittag tauchen wir dann mit Aktionsständen\, Essen und Trinken in ein großes queeres Fest ein und wechseln abends mit tanzbarer Musik in den Partyteil. \nWährend der Eröffnung soll auch Zeit sein für Eure Gedanken zum und an das Queere Zentrum. Um 15:30 Uhr öffnen wir daher die Bühne für alle und machen Platz für eure Stimmen: Grußworte\, Gedanken und Wünsche mit einer maximalen Länge von 1 Minute bringt also gerne mit zum OPEN MIC. \n\nWir freuen uns über einen Beitrag zum vegan-vegetarischen Buffet\, am besten Fingerfood wie Muffins oder Pizzaschnecken. Kurze Einträge in unser Pad erleichtern unsere Planung:\nhttps://pad.riseup.net/p/QZG_Mitbringbuffet \nWir brauchen noch eure Unterstützung – wenn ihr euch vorstellen könnt\, die Thekencrew zu unterstützen oder im Anschluss mit Aufrzuräumen\, dann tragt euch gerne hier ein. \n\nNähere Infos zum Programm am 18.06. finden sich in der Einladung\, die ihr hier als PDF downloaden könnt! \nFür Fragen wendet euch gerne an Denise (per Mail oder telefonisch unter 01520 4744705). \nWir freuen uns über Euer Kommen!
URL:https://equity-goettingen.de/termine/einzugsparty-queeres-zentrum/
LOCATION:Queeres Zentrum Göttingen\, Hospitalstr. 20\, Göttingen\, 37073
CATEGORIES:Outdoor,Socializing
ATTACH;FMTTYPE=image/jpeg:https://equity-goettingen.de/wp-content/uploads/2022/06/Einzugsparty.jpg
END:VEVENT
BEGIN:VEVENT
DTSTART;TZID=Europe/Berlin:20220627T190000
DTEND;TZID=Europe/Berlin:20220627T220000
DTSTAMP:20260424T122959
CREATED:20220620T125534Z
LAST-MODIFIED:20220620T125534Z
UID:1977-1656356400-1656367200@equity-goettingen.de
SUMMARY:Cheers Queers @QZG
DESCRIPTION:Liebe Queers\nAm 27.06. findet der nächste Abend statt\, wieder in Präsenz.\nWir freuen uns riesig\, endlich wieder mit euch einen schönen Abend verbringen zu können \n\nQueeres Zentrum (Hospitalstr. 20)\n ab 19:00 Uhr (bis max. 22Uhr – danach mit der Option noch weiter zu ziehen :))\n wie üblich mit Einladung an alle\, die sich in irgendeinem Sinne als queer verstehen\, und für Allies\n \nMacht bitte im Vorfeld einen offiziellen Coronatest (Selbsttest reicht nicht)\, damit die Sache für alle sicher ist!  Und denkt an eure Impf- und Personalausweise.\n!! Wir kontrollieren sowohl den Test (Foto oder Bestätigung\, tagesaktuell) als auch euer Impfzerifikat; Namen können bei Bedarf abgedeckt werden !!\n\nWir bitten auch diesmal um Verständnis für die Umständlichkeit. Kommt gerne vorbei für einen weiteren coolen Abend \n  please come officially tested – we’re looking forward to another great evening with you all
URL:https://equity-goettingen.de/termine/cheers-queers-qzg-3/
LOCATION:Queeres Zentrum Göttingen\, Hospitalstr. 20\, Göttingen\, 37073
CATEGORIES:Cheers Queers Göttingen,Empowerment,Socializing
ATTACH;FMTTYPE=image/jpeg:https://equity-goettingen.de/wp-content/uploads/2021/07/CQ.jpg
END:VEVENT
END:VCALENDAR