BEGIN:VCALENDAR
VERSION:2.0
PRODID:-//equity* Göttingen - ECPv6.11.2.1//NONSGML v1.0//EN
CALSCALE:GREGORIAN
METHOD:PUBLISH
X-WR-CALNAME:equity* Göttingen
X-ORIGINAL-URL:https://equity-goettingen.de
X-WR-CALDESC:Veranstaltungen für equity* Göttingen
REFRESH-INTERVAL;VALUE=DURATION:PT1H
X-Robots-Tag:noindex
X-PUBLISHED-TTL:PT1H
BEGIN:VTIMEZONE
TZID:Europe/Berlin
BEGIN:DAYLIGHT
TZOFFSETFROM:+0100
TZOFFSETTO:+0200
TZNAME:CEST
DTSTART:20230326T010000
END:DAYLIGHT
BEGIN:STANDARD
TZOFFSETFROM:+0200
TZOFFSETTO:+0100
TZNAME:CET
DTSTART:20231029T010000
END:STANDARD
END:VTIMEZONE
BEGIN:VEVENT
DTSTART;TZID=Europe/Berlin:20231102T100000
DTEND;TZID=Europe/Berlin:20231102T160000
DTSTAMP:20260421T150658
CREATED:20230908T093725Z
LAST-MODIFIED:20230908T093725Z
UID:2737-1698919200-1698940800@equity-goettingen.de
SUMMARY:Workshop: Jungen*Arbeit Für Alle
DESCRIPTION:Workshop II 02.11.2023 II 10:00-16:00 Uhr II Queeres Zentrum Göttingen \nJungen*Arbeit Für Alle. Praxis\, Konzeption und Austausch \nmit Olaf Jantz (mannigfaltig e.V.) \nIn diesem Workshop werden wir uns mit praxiserprobten Zugängen zu Männlichkeiten beschäftigen: Was genau ist Jungen*arbeit? Wie können wir Jungen* angemessen in ihrer Vielfalt unterstützen? Wie ist eine geschlechterreflektierende Arbeit mit Jungen* und männlichen* Jugendlichen möglich\, die sie selber annehmen können und die sie selber als hilfreich erachten? Welche Rolle spielen dabei Annahme\, Konfrontation und die Beschäftigung mit der Bewältigung von Männlichkeit(sanforderung)en? Und wie kann das jenseits heteronormativer Wiederholungen gehaltvoll gestaltet werden? Eigene Praxis- oder Fallbeispiele können gerne eingebracht und auch methodisch bearbeitet werden. \nReferent: Dipl.Päd. Olaf Jantz\, Personzentrierter Gesprächstherapeut (GwG)\, Jungen*bildungsreferent* und Geschäftsführer bei mannigfaltig e.V. – Verein für Jungen*- und Männer*arbeit\, sowie wissenschaftlicher Mitarbeiter bei Trans It e.V. – Institut für intersektionelle Praxisforschung und Bildung\, Hannover \n  \nTeilnehmende: max. 15 Personen \nTeilnahmebeitrag: 15€ \nZielgruppe: Der Workshop findet in deutscher Lautsprache statt und ist offen für alle Geschlechter. \nAnmeldung bis 2.10. an: queerejungs@queeres-goettingen.de \n—————————————————————————— \nDer Workshop findet im Rahmen des Projekts „Queere Jungs Göttingen“ (Gefördert durch das Niedersächsische Aktionsprogramm „Startklar in die Zukunft für Kinder und Jugendliche“) und in Kooperation mit dem Verein Niedersächsischer Bildungsinitiativen e.V. statt.
URL:https://equity-goettingen.de/termine/workshop-jungenarbeit-fuer-alle/
LOCATION:Queeres Zentrum Göttingen\, Hospitalstr. 20\, Göttingen\, 37073
CATEGORIES:Jugendhilfe,Workshop
ATTACH;FMTTYPE=image/png:https://equity-goettingen.de/wp-content/uploads/2023/09/JungenArbeit-Fuer-Alle_Visitenkarte.png
END:VEVENT
BEGIN:VEVENT
DTSTART;TZID=Europe/Berlin:20231102T103000
DTEND;TZID=Europe/Berlin:20231102T120000
DTSTAMP:20260421T150658
CREATED:20231024T105450Z
LAST-MODIFIED:20231024T105450Z
UID:2793-1698921000-1698926400@equity-goettingen.de
SUMMARY:Yoga für trans*\, inter\, non-binary\, agender\, *
DESCRIPTION:Donnerstags (10:30-12:00 Uhr): Yoga für trans*\, inter\, non-binary\, agender\, *\n(Anmeldung mit jeweiligem Datum an: queeres-yoga@queeres-goettingen.de) \nBitte melde dich zu diesem Termin nur an\, wenn du dich nicht oder nicht ausschließlich mit dem Geschlecht identifizierst\, das dir bei deiner Geburt zugewiesen wurde und/oder du dich außerhalb der vorherrschenden Vorstellung von „männlich“ und „weiblich“ verortest. Der Stil – mal flowig\, mal ruhig – kann beschrieben werden als Hatha Yoga mit Einflüssen aus Ashtanga und Yin Yoga\, in den Entspannungs- und Achtsamkeitsübungen einfließen. \nDer Kurs wird angeleitet von Lenn (keine Pronomen/lenn): „Yoga begleitet mich nun über die Hälfte meines Lebens. Seit 2018 leite ich Stunden an und habe 2019 mein 2-jähriges Yoga Teacher Training (700h) beendet. Mir hilft regelmäßige Yoga Praxis um mich und meinen Körper wieder besser zu spüren\, was im Alltag oft verloren geht\, aus dem Kopf zu kommen und etwas positiver auf mich und meinen Körper blicken zu können. Ich bin entspannter und fühle mich wohler. Ich freu mich\, wenn du mitüben magst :)“\nDas Angebot richtet sich an TINA*-Personen (trans\, inter\, non-binary\, agender\, *) und wird angeleitet von einer nicht-binären trans*Person.  \nVorerfahrungen hilfreich\, aber nicht notwendig.\nOrt: Kulturzentrum KAZ (Bürgerstraße 15\, Göttingen)\, Spiegelsaal\nStart: 02.11.2023
URL:https://equity-goettingen.de/termine/yoga-fuer-trans-inter-non-binary-agender/
LOCATION:KAZ\, Bürgerstr. 15\, Göttingen\, 37073\, Deutschland
CATEGORIES:Empowerment,Sport,Trans*
ATTACH;FMTTYPE=image/png:https://equity-goettingen.de/wp-content/uploads/2023/10/Yoga_Website.png
END:VEVENT
BEGIN:VEVENT
DTSTART;TZID=Europe/Berlin:20231107T153000
DTEND;TZID=Europe/Berlin:20231107T170000
DTSTAMP:20260421T150658
CREATED:20231024T105844Z
LAST-MODIFIED:20231024T105844Z
UID:2799-1699371000-1699376400@equity-goettingen.de
SUMMARY:Yoga für queere Menschen
DESCRIPTION:Dienstags (15:30-17:00Uhr): Yoga für queere Menschen\n(Anmeldung mit jeweiligem Datum an: queeres-yoga@queeres-goettingen.de) \nDer Termin am Dienstag richtet sich an alle Menschen\, die sich als queer verstehen. Queer meint Weisen des Liebens\, Zusammenlebens sowie der Identitätsfindung und der Ausgestaltung von Sexualität\, die jenseits klassischer Rollen- und Geschlechterbilder stattfinden. Das umfasst z.B. schwule\, lesbische\, bisexuelle oder asexuelle Orientierungen sowie trans* und inter* geschlechtliche Identitäten. \nGeleitet von einer qualifizierten Sportwissenschaftlerin und zertifizierten Yogalehrerin\, laden wir alle queeren Menschen herzlich zu unserer offenen Yogagruppe ein. Vorerfahrung ist nicht zwingend erforderlich.  \nTragt bitte lockere Kleidung\, bringt etwas zu trinken mit und gerne auch eine Decke für die Schlussentspannung\, wenn ihr mögt. \nOrt: Kulturzentrum KAZ (Bürgerstraße 15\, Göttingen)\, Spiegelsaal\nStart: 07.11.2023
URL:https://equity-goettingen.de/termine/yoga-fuer-queere-menschen/
LOCATION:KAZ\, Bürgerstr. 15\, Göttingen\, 37073\, Deutschland
CATEGORIES:Empowerment,Sport
ATTACH;FMTTYPE=image/png:https://equity-goettingen.de/wp-content/uploads/2023/10/Yoga_Website.png
END:VEVENT
BEGIN:VEVENT
DTSTART;TZID=Europe/Berlin:20231121T153000
DTEND;TZID=Europe/Berlin:20231121T170000
DTSTAMP:20260421T150658
CREATED:20231024T110038Z
LAST-MODIFIED:20231024T110038Z
UID:2803-1700580600-1700586000@equity-goettingen.de
SUMMARY:Yoga für queere Menschen
DESCRIPTION:Dienstags (15:30-17:00Uhr): Yoga für queere Menschen\n(Anmeldung mit jeweiligem Datum an: queeres-yoga@queeres-goettingen.de) \nDer Termin am Dienstag richtet sich an alle Menschen\, die sich als queer verstehen. Queer meint Weisen des Liebens\, Zusammenlebens sowie der Identitätsfindung und der Ausgestaltung von Sexualität\, die jenseits klassischer Rollen- und Geschlechterbilder stattfinden. Das umfasst z.B. schwule\, lesbische\, bisexuelle oder asexuelle Orientierungen sowie trans* und inter* geschlechtliche Identitäten. \nGeleitet von einer qualifizierten Sportwissenschaftlerin und zertifizierten Yogalehrerin\, laden wir alle queeren Menschen herzlich zu unserer offenen Yogagruppe ein. Vorerfahrung ist nicht zwingend erforderlich.  \nTragt bitte lockere Kleidung\, bringt etwas zu trinken mit und gerne auch eine Decke für die Schlussentspannung\, wenn ihr mögt. \nOrt: Kulturzentrum KAZ (Bürgerstraße 15\, Göttingen)\, Spiegelsaal\nStart: 07.11.2023
URL:https://equity-goettingen.de/termine/yoga-fuer-queere-menschen-3/
LOCATION:KAZ\, Bürgerstr. 15\, Göttingen\, 37073\, Deutschland
CATEGORIES:Empowerment,Sport
ATTACH;FMTTYPE=image/png:https://equity-goettingen.de/wp-content/uploads/2023/10/Yoga_Website.png
END:VEVENT
END:VCALENDAR