BEGIN:VCALENDAR
VERSION:2.0
PRODID:-//equity* Göttingen - ECPv6.11.2.1//NONSGML v1.0//EN
CALSCALE:GREGORIAN
METHOD:PUBLISH
X-WR-CALNAME:equity* Göttingen
X-ORIGINAL-URL:https://equity-goettingen.de
X-WR-CALDESC:Veranstaltungen für equity* Göttingen
REFRESH-INTERVAL;VALUE=DURATION:PT1H
X-Robots-Tag:noindex
X-PUBLISHED-TTL:PT1H
BEGIN:VTIMEZONE
TZID:Europe/Berlin
BEGIN:DAYLIGHT
TZOFFSETFROM:+0100
TZOFFSETTO:+0200
TZNAME:CEST
DTSTART:20240331T010000
END:DAYLIGHT
BEGIN:STANDARD
TZOFFSETFROM:+0200
TZOFFSETTO:+0100
TZNAME:CET
DTSTART:20241027T010000
END:STANDARD
END:VTIMEZONE
BEGIN:VEVENT
DTSTART;TZID=Europe/Berlin:20240323T130000
DTEND;TZID=Europe/Berlin:20240323T160000
DTSTAMP:20260419T163131
CREATED:20240222T093549Z
LAST-MODIFIED:20240306T130018Z
UID:2892-1711198800-1711209600@equity-goettingen.de
SUMMARY:Offener Treff: Window Color
DESCRIPTION:Habt ihr Lust\, kreativ zu werden und euch mit Farben auszutoben? Wir wollen mit euch Window Color-Fensterbilder herstellen! Wir stellen das Material\, Kekse und Tee und ihr kommt mit euren Ideen und kreativen Einfällen vorbei und setzt sie in die Tat um. Grenzen gibt’s dabei nur im Kopf! Ob Dinos\, Einhörner\, queere Flaggen\, Gemälde im Jugendstil\, Schmetterlinge oder euer Lieblingsanimecharakter\, der Fantasie sind keine Grenzen gesetzt. Wollt ihr etwas ganz bestimmtes malen\, bringt die Vorlage ausgedruckt mit oder schickt sie in der Woche vorher als PDF an info@equity-goettingen.de und wir drucken sie im Din A 4-Format für euch aus. Es wird aber auch hier vor Ort einige Vorlagen geben. \nWann findet der Spaß statt?\nAm Samstag\, den 23.03.\nvon 13 – 16 Uhr\nim Stadtjugendring\nDüstere Straße 20a \nSchnappt euch eure Friends und kommt vorbei\, wir freuen uns auf euch! \n 
URL:https://equity-goettingen.de/termine/nachmittagsangebot-window-color/
LOCATION:Stadtjugendring Göttingen\, Düstere Straße 20a\, Göttingen\, 37073
CATEGORIES:DIY/Kunst,Jugendtreff,Socializing
ATTACH;FMTTYPE=image/png:https://equity-goettingen.de/wp-content/uploads/2024/02/Window-Color-Nachmittag-Visitenkarte-US.png
END:VEVENT
END:VCALENDAR