BEGIN:VCALENDAR
VERSION:2.0
PRODID:-//equity* Göttingen - ECPv6.11.2.1//NONSGML v1.0//EN
CALSCALE:GREGORIAN
METHOD:PUBLISH
X-ORIGINAL-URL:https://equity-goettingen.de
X-WR-CALDESC:Veranstaltungen für equity* Göttingen
REFRESH-INTERVAL;VALUE=DURATION:PT1H
X-Robots-Tag:noindex
X-PUBLISHED-TTL:PT1H
BEGIN:VTIMEZONE
TZID:Europe/Berlin
BEGIN:DAYLIGHT
TZOFFSETFROM:+0100
TZOFFSETTO:+0200
TZNAME:CEST
DTSTART:20240331T010000
END:DAYLIGHT
BEGIN:STANDARD
TZOFFSETFROM:+0200
TZOFFSETTO:+0100
TZNAME:CET
DTSTART:20241027T010000
END:STANDARD
END:VTIMEZONE
BEGIN:VEVENT
DTSTART;TZID=Europe/Berlin:20240413T193000
DTEND;TZID=Europe/Berlin:20240413T230000
DTSTAMP:20260419T145643
CREATED:20240410T111335Z
LAST-MODIFIED:20241023T062351Z
UID:2925-1713036600-1713049200@equity-goettingen.de
SUMMARY:Cheers Queers
DESCRIPTION:Cheers Queers organisiert regelmäßig queere Barabende in Göttingen mit dem Ziel einen Rahmen zu schaffen\, in dem sich queere Menschen in einer lockeren Atmosphäre kennenlernen und austauschen können.  Die aktuellen Termine und alle Infos findet ihr auf Instgram (https://www.instagram.com/cheers_queers_goe/) oder im Telegram-Kanal (https://t.me/cheersqueersgoe) \nLiebe Leute!\nEtwas kurzfristig aber mit Vorfreude wollen wir euch aufmerksam machen auf unseren nächsten Barabend am \n📅 13.04. (Sa)\n📍 Gartenhaus (Friedrichstraße 3-4)\n⏰ ab 19:30 Uhr \nKommt gerne vorbei! Das letzte Mal im @gartenhaus_goettingen hat uns so gut gefallen\, dass wir euch gerne nochmal dorthin einladen wollen ✨ \nSeit zwei Jahren organisiert CheersQueers in verschiedenen Bars Abende zum entspannten Kennenlernen\, Flirten oder einfach Zeitverbringen\, gerichtet an alle\, die sich in irgendeinem Sinne als queer verstehen; insbesondere für Studis und Azubis\, Friends und alle anderen jungen Leute 🏳️‍🌈🏳️‍⚧️ \nFalls ihr euch nicht ganz fit fühlt und Symptome einer Erkältung habt\, dann bitten wir euch dieses Mal zu Hause zu bleiben\, damit alle sich möglichst sicher fühlen können. ☺️ \nBis dann 💗
URL:https://equity-goettingen.de/termine/cheers-queers-9/
LOCATION:Gartenhaus\, Friedrichstr. 3-4\, Göttingen
CATEGORIES:Cheers Queers Göttingen
ATTACH;FMTTYPE=image/png:https://equity-goettingen.de/wp-content/uploads/2024/02/Barabend.png
END:VEVENT
END:VCALENDAR