BEGIN:VCALENDAR
VERSION:2.0
PRODID:-//equity* Göttingen - ECPv6.11.2.1//NONSGML v1.0//EN
CALSCALE:GREGORIAN
METHOD:PUBLISH
X-ORIGINAL-URL:https://equity-goettingen.de
X-WR-CALDESC:Veranstaltungen für equity* Göttingen
REFRESH-INTERVAL;VALUE=DURATION:PT1H
X-Robots-Tag:noindex
X-PUBLISHED-TTL:PT1H
BEGIN:VTIMEZONE
TZID:Europe/Berlin
BEGIN:DAYLIGHT
TZOFFSETFROM:+0100
TZOFFSETTO:+0200
TZNAME:CEST
DTSTART:20210328T010000
END:DAYLIGHT
BEGIN:STANDARD
TZOFFSETFROM:+0200
TZOFFSETTO:+0100
TZNAME:CET
DTSTART:20211031T010000
END:STANDARD
END:VTIMEZONE
BEGIN:VEVENT
DTSTART;TZID=Europe/Berlin:20210512T140000
DTEND;TZID=Europe/Berlin:20210512T160000
DTSTAMP:20260424T154629
CREATED:20210415T112927Z
LAST-MODIFIED:20210415T112927Z
UID:912-1620828000-1620835200@equity-goettingen.de
SUMMARY:Uni Beratung
DESCRIPTION:Habt ihr Fragen zu geschlechtlicher Identität und sexueller Orientierung\, zu Coming Out oder Herausforderungen im Zusammenhang mit dem Studium\, der Ausbildung oder Lohnarbeit an der Uni Göttingen? Jeden 2. Mittwoch im Monat haben wir für euch im Rahmen unserer Kooperation mit der Uni eine offene Beratungszeit eingerichtet\, aktuell per Telefon oder online. Schreibt uns eine Mail an beratung@equity-goettingen.de mit eurer gewünschten Uhrzeit und ob ihr telefonisch oder per Videochat mit uns sprechen wollt und wir schicken euch die Nummer oder den Link zu.
URL:https://equity-goettingen.de/termine/uni-beratung-2/
LOCATION:online
CATEGORIES:Beratung,Trans*
ATTACH;FMTTYPE=image/jpeg:https://equity-goettingen.de/wp-content/uploads/2021/03/Uni-Beratung.jpg
END:VEVENT
BEGIN:VEVENT
DTSTART;TZID=Europe/Berlin:20210516T160000
DTEND;TZID=Europe/Berlin:20210516T183000
DTSTAMP:20260424T154629
CREATED:20210420T095914Z
LAST-MODIFIED:20210427T112929Z
UID:918-1621180800-1621189800@equity-goettingen.de
SUMMARY:Queer Empowerment!
DESCRIPTION:Workshop am Sonntag\, den 16. Mai zum IDAHOBIT* 2021 (16:00-18:30\, online) \nEmpowerment bedeutet\, uns gemeinsam in unserer Selbstbestimmung zu bestärken. Oft werden wir als queere Menschen in Alltagssituationen klein gemacht\, ausgegrenzt und diskriminiert. Im Workshop entwickeln und teilen wir Ideen und Ressourcen\, die uns in solchen Momenten hilfreich sind. So sammeln wir uns einen Koffer voller Werkzeug für die nächste Situation zusammen.\nWir werden im Workshop von- und miteinander lernen. Dabei gibt es Raum und Respekt für unterschiedliche Lebensrealitäten und Alltagserfahrungen. \nDie Workshop-Leiterin\, Hannah Engelmann\, ist freie Referentin und ehrenamtliches Mitglied der Trans*Beratung Göttingen. \nAnemldung an info@equity-goettingen.de
URL:https://equity-goettingen.de/termine/empowermentworkshop-zum-idahobit/
LOCATION:online
CATEGORIES:Empowerment,Online Veranstaltung
ATTACH;FMTTYPE=image/jpeg:https://equity-goettingen.de/wp-content/uploads/2021/04/Queer-Empowerment.jpg
END:VEVENT
END:VCALENDAR