BEGIN:VCALENDAR
VERSION:2.0
PRODID:-//equity* Göttingen - ECPv6.11.2.1//NONSGML v1.0//EN
CALSCALE:GREGORIAN
METHOD:PUBLISH
X-ORIGINAL-URL:https://equity-goettingen.de
X-WR-CALDESC:Veranstaltungen für equity* Göttingen
REFRESH-INTERVAL;VALUE=DURATION:PT1H
X-Robots-Tag:noindex
X-PUBLISHED-TTL:PT1H
BEGIN:VTIMEZONE
TZID:Europe/Berlin
BEGIN:DAYLIGHT
TZOFFSETFROM:+0100
TZOFFSETTO:+0200
TZNAME:CEST
DTSTART:20210328T010000
END:DAYLIGHT
BEGIN:STANDARD
TZOFFSETFROM:+0200
TZOFFSETTO:+0100
TZNAME:CET
DTSTART:20211031T010000
END:STANDARD
END:VTIMEZONE
BEGIN:VEVENT
DTSTART;TZID=Europe/Berlin:20211210T170000
DTEND;TZID=Europe/Berlin:20211210T190000
DTSTAMP:20260424T032917
CREATED:20211129T123442Z
LAST-MODIFIED:20211129T123442Z
UID:1447-1639155600-1639162800@equity-goettingen.de
SUMMARY:Online Vortrag: Trans* und psychische Gesundheit
DESCRIPTION:Online-Vortrag: Trans* und psychische Gesundheit \nVeranstalter*innen: Projekt „equity* – Empowerment für queere Jugendliche und junge Erwachsene bis 27“ in Kooperation mit der Universität Göttingen \nTermin: 10.12.2021 um 17 Uhr via zoom \nDie psychische Gesundheit von trans* Personen litt lange unter einem notorisch schlechten Ruf. Die ersten sexualwissenschaftlichen Leitsymptome (Sigusch et al. 1979) unterstellten trans* Personen Affektlosigkeit und Beziehungsunfähigkeit und noch im heute gültigen ICD-10 wird Trans*geschlechtlichkeit als Persönlichkeitsstörung geführt. Langsam beginnt sich die Erkenntnis durchzusetzen\, dass trans* Personen\, die ihre Geschlechtlichkeit leben können und darin anerkannt werden\, nicht mehr oder weniger gestört sind als die Mehrheitsgesellschaft. Das ist freilich nicht immer der Fall. Zugleich werden Sorgen laut\, dass Transitionen zum Modephänomen werden und dadurch Menschen\, die eigentlich andere Lösungen bräuchten\, ins Unglück stürzen könnten. \nHannah Engelmann ist freie Referentin und Trans*beraterin. Als queere trans* Frau bringt sie Community- und Erfahrungswissen mit wissenschaftlichen Befunden zusammen. In ihrem Promotionsprojekt untersucht sie antiqueere Ideologie. \nAnmeldung an info@equity-goettingen.de
URL:https://equity-goettingen.de/termine/online-vortrag-trans-und-psychische-gesundheit/
LOCATION:online
CATEGORIES:Online Veranstaltung
ATTACH;FMTTYPE=image/png:https://equity-goettingen.de/wp-content/uploads/2021/11/10.-Dezember-2021-II-17-Uhr-II-online.png
END:VEVENT
END:VCALENDAR