BEGIN:VCALENDAR
VERSION:2.0
PRODID:-//equity* Göttingen - ECPv6.11.2.1//NONSGML v1.0//EN
CALSCALE:GREGORIAN
METHOD:PUBLISH
X-ORIGINAL-URL:https://equity-goettingen.de
X-WR-CALDESC:Veranstaltungen für equity* Göttingen
REFRESH-INTERVAL;VALUE=DURATION:PT1H
X-Robots-Tag:noindex
X-PUBLISHED-TTL:PT1H
BEGIN:VTIMEZONE
TZID:Europe/Berlin
BEGIN:DAYLIGHT
TZOFFSETFROM:+0100
TZOFFSETTO:+0200
TZNAME:CEST
DTSTART:20220327T010000
END:DAYLIGHT
BEGIN:STANDARD
TZOFFSETFROM:+0200
TZOFFSETTO:+0100
TZNAME:CET
DTSTART:20221030T010000
END:STANDARD
END:VTIMEZONE
BEGIN:VEVENT
DTSTART;TZID=Europe/Berlin:20220305T100000
DTEND;TZID=Europe/Berlin:20220305T190000
DTSTAMP:20260423T222721
CREATED:20220202T152807Z
LAST-MODIFIED:20220202T153205Z
UID:1685-1646474400-1646506800@equity-goettingen.de
SUMMARY:Fachtag „Trans* Gesundheitsversorgung (in Göttingen) – (k)ein Problem?!„
DESCRIPTION:Fachtag „Trans* Gesundheitsversorgung (in Göttingen) – (k)ein Problem?!„\n05. März 2022\, online\nFortbildungspunkte wurden bei der Ärztekammer Niedersachsen beantragt \nUm die gesundheitliche Situation von trans* Personen in Göttingen und Umgebung zu verbessern und Behandler*innen zu vernetzen entstand im Jahr 2018 das „Netzwerk trans* Gesundheit Göttingen und Umgebung“. In diesem haben sich Beratungsstellen\, Ärzt*innen\, Therapeut*innen sowie andere im Bereich trans* Gesundheit tätige Personen aus der Region zusammengeschlossen. Als Ziele hat sich das Netzwerk neben Vernetzung und Austausch der beteiligten Berufsgruppen und Strukturen auch die (kollegiale) Weiterbildung\, eine Sensibilisierung bezüglich der spezifischen Belange von trans* Personen in Gesundheits- und Beratungsstrukturen und somit letztlich eine Verbesserung der Gesundheitsversorgung gesetzt. \nMehr als 3 Jahre nach der Gründung des Netzwerks wollen wir am 05.03.2022 im Rahmen eines Fachtags kritisch reflektieren\, wie es denn mittlerweile um die Gesundheitsversorgung von trans* Personen vom Kindes- bis ins Erwachsenenalter steht – sowohl im Raum Göttingen als auch darüber hinaus. Dabei möchten wir geografisch den Rahmen etwas weiter spannen und freuen uns auch über die Teilnahme von an der Gesundheitsversorgung beteiligter und in Beratungsstrukturen aktiver Menschen aus unseren Nachbarregionen und gerne auch aus dem gesamten Bundesgebiet. Auch inhaltlich wollen wir ein bisschen über unsere tägliche Arbeit hinausblicken und uns vor allem mit Themen auseinandersetzen\, die aktuell kontrovers diskutiert werden\, wie die Begleitung von trans* Kindern und Jugendlichen\, das Thema detrans*\, die Entpathologisierung von trans* und die endokrinologische Behandlung nicht-binärer Personen. Auch möchten wir Themen diskutieren\, die im medizinischen Kontext oft zu kurz kommen\, wie das Konzept der Peer-to-Peer-Beratung\, Community-basierte Gesundheitsversorgung und Rassismuserfahrungen im Gesundheitssystem. Am Ende wollen wir in einer Podiumsdiskussion dann wieder den Bogen nach Göttingen spannen und mit lokalen Akteur*innen die Versogungslage vor Ort diskutieren. Wir hoffen\, mit der Auswahl der Themen und der Referierenden einige gute\, kritische und konstruktive Diskussionen anstoßen zu können.
URL:https://equity-goettingen.de/termine/fachtag-trans-gesundheitsversorgung-in-goettingen-kein-problem/
LOCATION:online
CATEGORIES:Online Veranstaltung,Trans*
ATTACH;FMTTYPE=image/png:https://equity-goettingen.de/wp-content/uploads/2022/01/Fachtag.png
END:VEVENT
BEGIN:VEVENT
DTSTART;TZID=Europe/Berlin:20220319T160000
DTEND;TZID=Europe/Berlin:20220319T190000
DTSTAMP:20260423T222721
CREATED:20220317T184258Z
LAST-MODIFIED:20220317T184258Z
UID:1857-1647705600-1647716400@equity-goettingen.de
SUMMARY:meeT* - offene Jugendgruppe
DESCRIPTION:meeT* ist eine offene Jugendgruppe des equity-Projektes. Wir bieten einen geschützten Raum für Menschen zwischen 14 und 27 Jahren\, welche sich\, unabhängig vom individuellen Status der Entwicklung oder des Outings\, als trans oder nicht-binär identifizieren sowie auch für Menschen\, die das noch nicht so recht wissen. \nWir treffen uns jeden dritten Samstag im Monat im Queeren Zentrum für mehrere Stunden am Nachmittag. meeT* ist ein Ort\, an dem wir uns gegenseitig austauschen und uns mit jeglichen Themen auseinandersetzen können\, die uns gerade beschäftigen. \nDu hast ein mulmiges Gefühl\, wenn du daran denkst\, allein in eine bestehende Gruppe zu stoßen? Das kennen wir wohl alle. Um dir dieses Gefühl nehmen zu können\, bieten wir auch Treffen kurz vor Gruppenbeginn an. So kannst du eine*n von uns schon mal kennenlernen und gemeinsam können wir zur Gruppe stoßen. Falls du dieses Angebot nutzen möchtest\, dann melde dich gern über unsere Kontaktmöglichkeiten bei uns. Wir freuen uns dich kennenzulernen. \nDu hast noch Fragen oder Anliegen? Dann melde dich gerne bei uns. Deine Ansprechpartner*innen sind Lou und Sani. \nAlle Infos zur Gruppe und zu unseren Kontakten findest du hier.
URL:https://equity-goettingen.de/termine/meet-offene-jugendgruppe/
LOCATION:Queeres Zentrum Göttingen\, Hospitalstr. 20\, Göttingen\, 37073
CATEGORIES:Empowerment,Jugendtreff,Socializing
ATTACH;FMTTYPE=image/png:https://equity-goettingen.de/wp-content/uploads/2022/02/meeT-Logo-Visitenkarte.png
ORGANIZER;CN="meeT*":MAILTO:meet@equity-goettingen.de
END:VEVENT
END:VCALENDAR