BEGIN:VCALENDAR
VERSION:2.0
PRODID:-//equity* Göttingen - ECPv6.11.2.1//NONSGML v1.0//EN
CALSCALE:GREGORIAN
METHOD:PUBLISH
X-ORIGINAL-URL:https://equity-goettingen.de
X-WR-CALDESC:Veranstaltungen für equity* Göttingen
REFRESH-INTERVAL;VALUE=DURATION:PT1H
X-Robots-Tag:noindex
X-PUBLISHED-TTL:PT1H
BEGIN:VTIMEZONE
TZID:Europe/Berlin
BEGIN:DAYLIGHT
TZOFFSETFROM:+0100
TZOFFSETTO:+0200
TZNAME:CEST
DTSTART:20220327T010000
END:DAYLIGHT
BEGIN:STANDARD
TZOFFSETFROM:+0200
TZOFFSETTO:+0100
TZNAME:CET
DTSTART:20221030T010000
END:STANDARD
END:VTIMEZONE
BEGIN:VEVENT
DTSTART;TZID=Europe/Berlin:20220521T160000
DTEND;TZID=Europe/Berlin:20220521T190000
DTSTAMP:20260423T192506
CREATED:20220512T144148Z
LAST-MODIFIED:20220512T144239Z
UID:1938-1653148800-1653159600@equity-goettingen.de
SUMMARY:meeT* - Picknick
DESCRIPTION:Am 21.5.22 trifft meeT* (Jugendgruppe für trans* und nicht-binäre Jugendliche und junge Erwachsene) sich auf den Schillerwiesen zu einem Picknick! \nWenn ihr dabei sein wollt\, meldet euch an (für die Planung): meet@equity-goettingen.de
URL:https://equity-goettingen.de/termine/meet-picknick/
LOCATION:Schillerwiesen
CATEGORIES:Jugendtreff,Outdoor,Socializing
ATTACH;FMTTYPE=image/png:https://equity-goettingen.de/wp-content/uploads/2022/02/meeT-Logo-Postkarzte.png
ORGANIZER;CN="meeT*":MAILTO:meet@equity-goettingen.de
END:VEVENT
END:VCALENDAR