BEGIN:VCALENDAR
VERSION:2.0
PRODID:-//equity* Göttingen - ECPv6.11.2.1//NONSGML v1.0//EN
CALSCALE:GREGORIAN
METHOD:PUBLISH
X-ORIGINAL-URL:https://equity-goettingen.de
X-WR-CALDESC:Veranstaltungen für equity* Göttingen
REFRESH-INTERVAL;VALUE=DURATION:PT1H
X-Robots-Tag:noindex
X-PUBLISHED-TTL:PT1H
BEGIN:VTIMEZONE
TZID:Europe/Berlin
BEGIN:DAYLIGHT
TZOFFSETFROM:+0100
TZOFFSETTO:+0200
TZNAME:CEST
DTSTART:20230326T010000
END:DAYLIGHT
BEGIN:STANDARD
TZOFFSETFROM:+0200
TZOFFSETTO:+0100
TZNAME:CET
DTSTART:20231029T010000
END:STANDARD
END:VTIMEZONE
BEGIN:VEVENT
DTSTART;TZID=Europe/Berlin:20230316T160000
DTEND;TZID=Europe/Berlin:20230316T200000
DTSTAMP:20260423T015650
CREATED:20230222T125849Z
LAST-MODIFIED:20230222T125920Z
UID:2289-1678982400-1678996800@equity-goettingen.de
SUMMARY:trans* Misogynie - Sensibilisierungsworkshop
DESCRIPTION:8. März = Feministischer Kampftag! \nUnser Beitrag zum diesjährigen 8. März: Ein Sensibilisierungsworkshop zu trans*Misogynie. \ntrans*Misogynie bezeichnet die gezielte Abwertung und Unterdrückung trans*weiblicher Menschen. Diese Diskriminierung ist\, nicht nur in der cis-hetero dominierten Mehrheitsgesellschaft\, Alltag – vielmehr erleben trans*Weiblichkeit_en auch in queeren und feministischen Kontexten viele Ausschlüsse. \nDer Workshop mit Mine Pleasure Bouvar Wenzel schafft ein besseres Verständnis dafür\, welche Formen trans*misogyne Unterdrückung annimmt\, welche Auswirkungen sie hat und wie ein verantwortungsvoller Umgang damit gefunden werden kann. \nWo? Queeres Zentrum Göttingen\, Hospitalstraße 20\nWann? 16.03.2023\, 16:00 -20:00 \nAnmeldung erforderlich\, weil begrenzte Platzzahl: Bis 01.03. an info@queeres-zentrum-goettingen.de \nDer Veranstaltungsort ist über einen Fahrstuhl barrierearm zugänglich\, es gibt ein barrierearmes und rollstuhlgeeignetes WC.\nSolltet ihr eine Flüsterübersetzung auf Englisch oder Dolmetschung in DGS benötigen\, schreibt uns gerne an\, und wir versuchen\, das zu organisieren.
URL:https://equity-goettingen.de/termine/2289/
LOCATION:Queeres Zentrum Göttingen\, Hospitalstr. 20\, Göttingen\, 37073
CATEGORIES:Trans*,Workshop
ATTACH;FMTTYPE=image/png:https://equity-goettingen.de/wp-content/uploads/2023/02/Website_Transmisogynie.png
END:VEVENT
BEGIN:VEVENT
DTSTART;TZID=Europe/Berlin:20230326T150000
DTEND;TZID=Europe/Berlin:20230326T170000
DTSTAMP:20260423T015650
CREATED:20230309T111714Z
LAST-MODIFIED:20230309T112349Z
UID:2304-1679842800-1679850000@equity-goettingen.de
SUMMARY:Queere Jungs
DESCRIPTION:Queere Jungs ist ein offenes Jugendangebot für queere\, trans\, schwule\, ace\, aro\, bi- und pansexuelle Jungs und junge Männer zwischen 14 und 19 Jahren.\nWir treffen uns immer den zweiten Freitag im Monat zwischen 18 und 20 Uhr\, sowie am vierten Sonntag im Monat zwischen 15 und 17 Uhr im Queeren Zentrum Göttingen.\n \nWir veranstalten Treffen zu bestimmten Themen oder einfach zum abhängen\, zocken\, kreativ sein\, kochen\, Film gucken oder worauf immer du Lust hast.\n \nDa es sich um ein offenes Treffen handelt kannst du in der Regel kommen und gehen wann du möchtest. Wir empfehlen aber\, zu Beginn des Treffens da zu sein. Das macht uns das Kennenlernen einfacher und wir können gemeinsam überlegen was wir machen möchten. Es kann auch vorkommen dass wir einen Ausflug oder Workshop machen.\nInformiere dich darüber im Vorhinein über unsere Instagram-Seite @queere_jungs_goe oder schreibe eine Mail.\n \nHast du Fragen? Sollen wir etwas beachten\, damit du dich bei uns wohl fühlen kannst? Hast du Sorge alleine zu kommen? \nSchreibe uns einfach bei Insta oder schicke ein Mail an queerejungs[at]queeres-goettingen.de
URL:https://equity-goettingen.de/termine/queere-jungs/
LOCATION:Queeres Zentrum Göttingen\, Hospitalstr. 20\, Göttingen\, 37073
CATEGORIES:Jugendtreff
ATTACH;FMTTYPE=image/png:https://equity-goettingen.de/wp-content/uploads/2023/03/Visitenkarte-Queere-Jungs.png
END:VEVENT
END:VCALENDAR