BEGIN:VCALENDAR
VERSION:2.0
PRODID:-//equity* Göttingen - ECPv6.11.2.1//NONSGML v1.0//EN
CALSCALE:GREGORIAN
METHOD:PUBLISH
X-ORIGINAL-URL:https://equity-goettingen.de
X-WR-CALDESC:Veranstaltungen für equity* Göttingen
REFRESH-INTERVAL;VALUE=DURATION:PT1H
X-Robots-Tag:noindex
X-PUBLISHED-TTL:PT1H
BEGIN:VTIMEZONE
TZID:Europe/Berlin
BEGIN:DAYLIGHT
TZOFFSETFROM:+0100
TZOFFSETTO:+0200
TZNAME:CEST
DTSTART:20230326T010000
END:DAYLIGHT
BEGIN:STANDARD
TZOFFSETFROM:+0200
TZOFFSETTO:+0100
TZNAME:CET
DTSTART:20231029T010000
END:STANDARD
END:VTIMEZONE
BEGIN:VEVENT
DTSTART;TZID=Europe/Berlin:20230414T180000
DTEND;TZID=Europe/Berlin:20230414T200000
DTSTAMP:20260423T002145
CREATED:20230309T112303Z
LAST-MODIFIED:20230309T112303Z
UID:2307-1681495200-1681502400@equity-goettingen.de
SUMMARY:Queere Jungs
DESCRIPTION:Queere Jungs ist ein offenes Jugendangebot für queere\, trans\, schwule\, ace\, aro\, bi- und pansexuelle Jungs und junge Männer zwischen 14 und 19 Jahren.\nWir treffen uns immer den zweiten Freitag im Monat zwischen 18 und 20 Uhr\, sowie am vierten Sonntag im Monat zwischen 15 und 17 Uhr im Queeren Zentrum Göttingen.\n \nWir veranstalten Treffen zu bestimmten Themen oder einfach zum abhängen\, zocken\, kreativ sein\, kochen\, Film gucken oder worauf immer du Lust hast.\n \nDa es sich um ein offenes Treffen handelt kannst du in der Regel kommen und gehen wann du möchtest. Wir empfehlen aber\, zu Beginn des Treffens da zu sein. Das macht uns das Kennenlernen einfacher und wir können gemeinsam überlegen was wir machen möchten. Es kann auch vorkommen dass wir einen Ausflug oder Workshop machen.\nInformiere dich darüber im Vorhinein über unsere Instagram-Seite @queere_jungs_goe oder schreibe eine Mail.\n \nHast du Fragen? Sollen wir etwas beachten\, damit du dich bei uns wohl fühlen kannst? Hast du Sorge alleine zu kommen? \nSchreibe uns einfach bei Insta oder schicke ein Mail an queerejungs[at]queeres-goettingen.de
URL:https://equity-goettingen.de/termine/queere-jungs-2/
LOCATION:Queeres Zentrum Göttingen\, Hospitalstr. 20\, Göttingen\, 37073
CATEGORIES:Jugendtreff
ATTACH;FMTTYPE=image/png:https://equity-goettingen.de/wp-content/uploads/2023/03/Visitenkarte-Queere-Jungs.png
END:VEVENT
BEGIN:VEVENT
DTSTART;TZID=Europe/Berlin:20230423T150000
DTEND;TZID=Europe/Berlin:20230423T170000
DTSTAMP:20260423T002145
CREATED:20230314T101820Z
LAST-MODIFIED:20230314T101820Z
UID:2310-1682262000-1682269200@equity-goettingen.de
SUMMARY:Queere Jungs
DESCRIPTION:Queere Jungs ist ein offenes Jugendangebot für queere\, trans\, schwule\, ace\, aro\, bi- und pansexuelle Jungs und junge Männer zwischen 14 und 19 Jahren.\nWir treffen uns immer den zweiten Freitag im Monat zwischen 18 und 20 Uhr\, sowie am vierten Sonntag im Monat zwischen 15 und 17 Uhr im Queeren Zentrum Göttingen.\n \nWir veranstalten Treffen zu bestimmten Themen oder einfach zum abhängen\, zocken\, kreativ sein\, kochen\, Film gucken oder worauf immer du Lust hast.\n \nDa es sich um ein offenes Treffen handelt kannst du in der Regel kommen und gehen wann du möchtest. Wir empfehlen aber\, zu Beginn des Treffens da zu sein. Das macht uns das Kennenlernen einfacher und wir können gemeinsam überlegen was wir machen möchten. Es kann auch vorkommen dass wir einen Ausflug oder Workshop machen.\nInformiere dich darüber im Vorhinein über unsere Instagram-Seite @queere_jungs_goe oder schreibe eine Mail.\n \nHast du Fragen? Sollen wir etwas beachten\, damit du dich bei uns wohl fühlen kannst? Hast du Sorge alleine zu kommen? \nSchreibe uns einfach bei Insta oder schicke ein Mail an queerejungs[at]queeres-goettingen.de
URL:https://equity-goettingen.de/termine/queere-jungs-3/
LOCATION:Queeres Zentrum Göttingen\, Hospitalstr. 20\, Göttingen\, 37073
CATEGORIES:Jugendtreff
ATTACH;FMTTYPE=image/png:https://equity-goettingen.de/wp-content/uploads/2023/03/Visitenkarte-Queere-Jungs.png
END:VEVENT
END:VCALENDAR