BEGIN:VCALENDAR
VERSION:2.0
PRODID:-//equity* Göttingen - ECPv6.11.2.1//NONSGML v1.0//EN
CALSCALE:GREGORIAN
METHOD:PUBLISH
X-WR-CALNAME:equity* Göttingen
X-ORIGINAL-URL:https://equity-goettingen.de
X-WR-CALDESC:Veranstaltungen für equity* Göttingen
REFRESH-INTERVAL;VALUE=DURATION:PT1H
X-Robots-Tag:noindex
X-PUBLISHED-TTL:PT1H
BEGIN:VTIMEZONE
TZID:Europe/Berlin
BEGIN:DAYLIGHT
TZOFFSETFROM:+0100
TZOFFSETTO:+0200
TZNAME:CEST
DTSTART:20230326T010000
END:DAYLIGHT
BEGIN:STANDARD
TZOFFSETFROM:+0200
TZOFFSETTO:+0100
TZNAME:CET
DTSTART:20231029T010000
END:STANDARD
END:VTIMEZONE
BEGIN:VEVENT
DTSTART;TZID=Europe/Berlin:20230819T160000
DTEND;TZID=Europe/Berlin:20230819T180000
DTSTAMP:20260422T162418
CREATED:20230803T111440Z
LAST-MODIFIED:20230808T095900Z
UID:2702-1692460800-1692468000@equity-goettingen.de
SUMMARY:ENTFÄLLT meeT*
DESCRIPTION:Im August findet meeT* nicht statt! Wir sehen uns im September 🙂 \n———————————————————————————————————- \nmeeT* ist eine offene Jugendgruppe des equity-Projektes. Wir bieten einen geschützten Raum für Menschen zwischen 14 und 27 Jahren\, welche sich\, unabhängig vom individuellen Status der Entwicklung oder des Outings\, als trans oder nicht-binär identifizieren sowie auch für Menschen\, die das noch nicht so recht wissen. \nWir treffen uns jeden dritten Samstag im Monat im Queeren Zentrum für mehrere Stunden am Nachmittag. meeT* ist ein Ort\, an dem wir uns gegenseitig austauschen und uns mit jeglichen Themen auseinandersetzen können\, die uns gerade beschäftigen. \nDu hast ein mulmiges Gefühl\, wenn du daran denkst\, allein in eine bestehende Gruppe zu stoßen? Das kennen wir wohl alle. Um dir dieses Gefühl nehmen zu können\, bieten wir auch Treffen kurz vor Gruppenbeginn an. So kannst du eine*n von uns schon mal kennenlernen und gemeinsam können wir zur Gruppe stoßen. Falls du dieses Angebot nutzen möchtest\, dann melde dich gern über unsere Kontaktmöglichkeiten bei uns. Wir freuen uns dich kennenzulernen. \nInformationen zu den jeweiligen Themen und Inhalten der nächsten Gruppentreffen findest du rechtzeitig auf unserem Instagram-Account @meet_goettingen. Hier stößt du in den Highlights auch auf Einblicke der letzten Termine. \nDu hast noch Fragen oder Anliegen? Dann melde dich gerne bei uns. Deine Ansprechpartner*innen sind Lou und Sani. \nAlle Infos zur Gruppe und zu unseren Kontakten findest du hier.
URL:https://equity-goettingen.de/termine/meet-6/
CATEGORIES:Jugendtreff,Socializing,Trans*
ATTACH;FMTTYPE=image/jpeg:https://equity-goettingen.de/wp-content/uploads/2022/02/meeT-Logo.jpg
ORGANIZER;CN="meeT*":MAILTO:meet@equity-goettingen.de
END:VEVENT
END:VCALENDAR